BEGIN:VCALENDAR
VERSION:2.0
PRODID:-//ChamberMaster//Event Calendar 2.0//EN
METHOD:PUBLISH
X-PUBLISHED-TTL:P3D
REFRESH-INTERVAL:P3D
CALSCALE:GREGORIAN
BEGIN:VEVENT
DTSTART;VALUE=DATE:20241214
DTEND;VALUE=DATE:20241215
TRANSP:TRANSPARENT
X-MICROSOFT-CDO-ALLDAYEVENT:TRUE
SUMMARY:Christmas in Whoville
DESCRIPTION:Neosho Downtown Merchants \n\nPop up makers market around the square!
X-ALT-DESC;FMTTYPE=text/html:Neosho Downtown Merchants&nbsp\;<br />\nPop up makers market around the square!&nbsp\;
LOCATION:Around the Square!
UID:e.2144.14181
SEQUENCE:3
DTSTAMP:20260424T161707Z
URL:https://www.neoshocc.com/events/details/christmas-in-whoville-14181
END:VEVENT

END:VCALENDAR
