BEGIN:VCALENDAR
VERSION:2.0
PRODID:-//ChamberMaster//Event Calendar 2.0//EN
METHOD:PUBLISH
X-PUBLISHED-TTL:P3D
REFRESH-INTERVAL:P3D
CALSCALE:GREGORIAN
BEGIN:VEVENT
DTSTART:20221202T000000Z
DTEND:20221202T010000Z
X-MICROSOFT-CDO-ALLDAYEVENT:FALSE
SUMMARY:Christmas Lighting Ceremony
DESCRIPTION:City of Neosho\n\nChristmas Lighting Ceremony at Big Spring Park
X-ALT-DESC;FMTTYPE=text/html:City of Neosho<br />\nChristmas Lighting Ceremony at Big Spring Park
LOCATION:Big Spring Park 203 E Main Street Neosho\, MO 64850
UID:e.2144.8909
SEQUENCE:3
DTSTAMP:20260426T035046Z
URL:https://www.neoshocc.com/events/details/christmas-lighting-ceremony-8909
END:VEVENT

END:VCALENDAR
