BEGIN:VCALENDAR
VERSION:2.0
PRODID:-//ChamberMaster//Event Calendar 2.0//EN
METHOD:PUBLISH
X-PUBLISHED-TTL:P3D
REFRESH-INTERVAL:P3D
CALSCALE:GREGORIAN
BEGIN:VEVENT
DTSTART:20251210T160000Z
DTEND:20251210T180000Z
X-MICROSOFT-CDO-ALLDAYEVENT:FALSE
SUMMARY:Christmas Storytime
DESCRIPTION:Christmas Storytime at the Library??\n\nJoin us for a very merry morning of stories\, laughter\, and treats! ?? \n\n\n\nWe'll be reading two festive favorites:\n\n?? Santa's Story by Will Hillenbrand\n\n?? Santa Bruce by Ryan T. Higgins\n\n\n\nAfter storytime\, stick around for a fun food craft   we'll be making edible Christmas trees using waffle cones\, icing\, and sweet decorations!\n\n\n\n?? Allergy Notice: Please bring safe alternative ingredients if you or your child have food allergies\, as shared materials may contain common allergens.\n\n\n\nCome celebrate the magic of the season with us here at NNCL!!
X-ALT-DESC;FMTTYPE=text/html:Christmas Storytime at the Library??<br />\nJoin us for a very merry morning of stories\, laughter\, and treats! ??&nbsp\;<br />\n<br />\nWe&rsquo\;ll be reading two festive favorites:<br />\n?? Santa&rsquo\;s Story by Will Hillenbrand<br />\n?? Santa Bruce by Ryan T. Higgins<br />\n<br />\nAfter storytime\, stick around for a fun food craft &mdash\; we&rsquo\;ll be making edible Christmas trees using waffle cones\, icing\, and sweet decorations!<br />\n<br />\n?? Allergy Notice: Please bring safe alternative ingredients if you or your child have food allergies\, as shared materials may contain common allergens.<br />\n<br />\nCome celebrate the magic of the season with us here at NNCL!!
LOCATION:201 W Spring St Neosho\, MO 64850
UID:e.2144.18798
SEQUENCE:3
DTSTAMP:20260424T002217Z
URL:https://www.neoshocc.com/events/details/christmas-storytime-18798
END:VEVENT

END:VCALENDAR
