BEGIN:VCALENDAR
VERSION:2.0
PRODID:-//ChamberMaster//Event Calendar 2.0//EN
METHOD:PUBLISH
X-PUBLISHED-TTL:P3D
REFRESH-INTERVAL:P3D
CALSCALE:GREGORIAN
BEGIN:VEVENT
DTSTART:20241223T210000Z
DTEND:20241224T000000Z
X-MICROSOFT-CDO-ALLDAYEVENT:FALSE
SUMMARY:Christmas Table Market
DESCRIPTION:Local\, Farm-Fresh\, and Scratch-Made Goodness for Your Family's Christmas Table! Pre-Order and Grab-and-Go options.\n\nBack by popular demand! After the wild success of last month's Thanksgiving Table Market\, Neosho Farmers Market will be hosting our First Annual 'Christmas Table Market' on Monday\, December 23rd from 3 to 6 p.m. at our market location\, directly across from the Neosho Library in beautiful\, Historic Downtown Neosho.\n\nThis special holiday event will be a unique opportunity for the community to BOTH pre-order holiday meal dishes (entrees\, sides\, desserts\, baked goods\, and more)\, AS WELL AS to shop for last minute items for your family dinner table.\n\n** Option #1: Pre-order Menu Items **\n\nFor a limited limited window of time\, we will be sharing the special pre-order menus of many of your favorite market bakers\, farmers\, and chefs (plus a couple of guests). Shoppers will use these menus to place pre-orders directly with the individual makers to be picked up at this Christmas MONDAY market. Examples of pre-order options include homemade pies and pie fillings\, dinner rolls\, traditional side dishes\, ready-to-prepare fresh meats\, specialty teas\, jellies and other spreadables\, holiday beverages\, and more.\n\n** Option #2: Grab-and-Go Market Items **\n\nFor those who miss the preorder window\, or who need last minute additions for their dinner table\, these same makers will also have a wide selection of fresh-made\, first-come-first-serve\, grab-and-go offerings. Examples include baked goods\, jellies and fillings\, holiday table centerpieces\, and more.\n\nThere will also be a variety of market-favorite ready-to-eat (and drink) items to enjoy while you shop.\n\nMake a note to attend this market and dress your Christmas table with all things local.
X-ALT-DESC;FMTTYPE=text/html:<div background-color:="" class="xdj266r x11i5rnm xat24cr x1mh8g0r x1vvkbs" color:="" font-size:="" segoe="" style="margin: 0px\; overflow-wrap: break-word\; font-family: " ui="">Local\, Farm-Fresh\, and Scratch-Made Goodness for Your Family&#39\;s Christmas Table! Pre-Order and Grab-and-Go options.</div>\n\n<div background-color:="" class="x11i5rnm xat24cr x1mh8g0r x1vvkbs xtlvy1s" color:="" font-size:="" segoe="" style="margin: 0.5em 0px 0px\; overflow-wrap: break-word\; font-family: " ui="">Back by popular demand! After the wild success of last month&#39\;s Thanksgiving Table Market\, Neosho Farmers Market will be hosting our First Annual &#39\;Christmas Table Market&#39\; on Monday\, December 23rd from 3 to 6 p.m. at our market location\, directly across from the Neosho Library in beautiful\, Historic Downtown Neosho.</div>\n\n<div background-color:="" class="x11i5rnm xat24cr x1mh8g0r x1vvkbs xtlvy1s" color:="" font-size:="" segoe="" style="margin: 0.5em 0px 0px\; overflow-wrap: break-word\; font-family: " ui="">This special holiday event will be a unique opportunity for the community to BOTH pre-order holiday meal dishes (entrees\, sides\, desserts\, baked goods\, and more)\, AS WELL AS to shop for last minute items for your family dinner table.</div>\n\n<div background-color:="" class="x11i5rnm xat24cr x1mh8g0r x1vvkbs xtlvy1s" color:="" font-size:="" segoe="" style="margin: 0.5em 0px 0px\; overflow-wrap: break-word\; font-family: " ui="">** Option #1: Pre-order Menu Items **<br class="html-br" />\nFor a limited limited window of time\, we will be sharing the special pre-order menus of many of your favorite market bakers\, farmers\, and chefs (plus a couple of guests). Shoppers will use these menus to place pre-orders directly with the individual makers to be picked up at this Christmas MONDAY market. Examples of pre-order options include homemade pies and pie fillings\, dinner rolls\, traditional side dishes\, ready-to-prepare fresh meats\, specialty teas\, jellies and other spreadables\, holiday beverages\, and more.</div>\n\n<div background-color:="" class="x11i5rnm xat24cr x1mh8g0r x1vvkbs xtlvy1s" color:="" font-size:="" segoe="" style="margin: 0.5em 0px 0px\; overflow-wrap: break-word\; font-family: " ui="">** Option #2: Grab-and-Go Market Items **<br class="html-br" />\nFor those who miss the preorder window\, or who need last minute additions for their dinner table\, these same makers will also have a wide selection of fresh-made\, first-come-first-serve\, grab-and-go offerings. Examples include baked goods\, jellies and fillings\, holiday table centerpieces\, and more.</div>\n\n<div background-color:="" class="x11i5rnm xat24cr x1mh8g0r x1vvkbs xtlvy1s" color:="" font-size:="" segoe="" style="margin: 0.5em 0px 0px\; overflow-wrap: break-word\; font-family: " ui="">There will also be a variety of market-favorite ready-to-eat (and drink) items to enjoy while you shop.</div>\n\n<div background-color:="" class="x11i5rnm xat24cr x1mh8g0r x1vvkbs xtlvy1s" color:="" font-size:="" segoe="" style="margin: 0.5em 0px 0px\; overflow-wrap: break-word\; font-family: " ui="">Make a note to attend this market and dress your Christmas table with all things local.</div>\n
LOCATION:Neosho Farmers Market 201 W Spring St\, Neosho\, MO 64850
UID:e.2144.14209
SEQUENCE:3
DTSTAMP:20260424T161549Z
URL:https://www.neoshocc.com/events/details/christmas-table-market-14209
END:VEVENT

END:VCALENDAR
