BEGIN:VCALENDAR
VERSION:2.0
PRODID:-//ChamberMaster//Event Calendar 2.0//EN
METHOD:PUBLISH
X-PUBLISHED-TTL:P3D
REFRESH-INTERVAL:P3D
CALSCALE:GREGORIAN
BEGIN:VEVENT
DTSTART:20231006T230000Z
DTEND:20231007T010000Z
X-MICROSOFT-CDO-ALLDAYEVENT:FALSE
SUMMARY:Christmas Tree Class
DESCRIPTION:We are going to make a gorgeous clay Christmas tree in this class\, and we'd love for you to join us! Click here to reserve your spot: https://square.link/u/VJi5BMIs
X-ALT-DESC;FMTTYPE=text/html:We are going to make a gorgeous clay Christmas tree in this class\, and we&rsquo\;d love for you to join us! Click here to reserve your spot: https://square.link/u/VJi5BMIs
LOCATION:Mercantile on Main and Quilters Heaven\, Granby\, MO
UID:e.2144.10798
SEQUENCE:3
DTSTAMP:20260425T121518Z
URL:https://www.neoshocc.com/events/details/christmas-tree-class-10798
END:VEVENT

END:VCALENDAR
