BEGIN:VCALENDAR
VERSION:2.0
PRODID:-//ChamberMaster//Event Calendar 2.0//EN
METHOD:PUBLISH
X-PUBLISHED-TTL:P3D
REFRESH-INTERVAL:P3D
CALSCALE:GREGORIAN
BEGIN:VEVENT
DTSTART:20241215T010000Z
DTEND:20241215T030000Z
X-MICROSOFT-CDO-ALLDAYEVENT:FALSE
SUMMARY:Christmas with The Martins and Joseph Habedank
DESCRIPTION:Celebrate the beautiful sounds and meaning of the Christmas season with smooth voices and harmonies of The Martins and Joseph Habedank. This is the must-see\, must-hear event of the season.
X-ALT-DESC;FMTTYPE=text/html:Celebrate the beautiful sounds and meaning of the Christmas season with smooth voices and harmonies of The Martins and Joseph Habedank. This is the must-see\, must-hear event of the season.
LOCATION:Coleman Theatre Miami Ok
UID:e.2144.14162
SEQUENCE:3
DTSTAMP:20260424T161822Z
URL:https://www.neoshocc.com/events/details/christmas-with-the-martins-and-joseph-habedank-14162
END:VEVENT

END:VCALENDAR
