BEGIN:VCALENDAR
VERSION:2.0
PRODID:-//ChamberMaster//Event Calendar 2.0//EN
METHOD:PUBLISH
X-PUBLISHED-TTL:P3D
REFRESH-INTERVAL:P3D
CALSCALE:GREGORIAN
BEGIN:VEVENT
DTSTART:20230310T000000Z
DTEND:20230310T010000Z
X-MICROSOFT-CDO-ALLDAYEVENT:FALSE
SUMMARY:Civil War Symposium presented by Crowder College
DESCRIPTION:Join Crowder College in welcoming guest speaker\, Dr. Chris Huggard (Northwest Arkansas Community College) March 9 at 6pm in the Wright Conference Center (Farber Hall. 601 Laclede Ave.\, Neosho\, MO). Dr. Huggard will present "On Pea Ridge: Civil War Battle\, Community Memory\, and the Making of a National Park" as part of the college's Civil War Symposium. These events are free and open to the public.\n\n\n\nSAVE THE DATE!\n\nApril 13\, 6pm: Spillwater Drive: Civil War Era Bluegrass Music  \n\nNamed 2022's "Artist of the Year" by the Arkansas County Music Association
X-ALT-DESC;FMTTYPE=text/html:Join Crowder College in welcoming guest speaker\, Dr. Chris Huggard (Northwest Arkansas Community College) March 9 at 6pm in the Wright Conference Center (Farber Hall. 601 Laclede Ave.\, Neosho\, MO). Dr. Huggard will present &quot\;<em>On Pea Ridge: Civil War Battle\, Community Memory\, and the Making of a National Park&quot\;</em>&nbsp\;as part of the college&#39\;s Civil War Symposium. These events are free and open to the public.<br />\n<br />\n<strong>SAVE THE DATE!</strong><br />\nApril 13\, 6pm: Spillwater Drive: Civil War Era Bluegrass Music&nbsp\;&nbsp\;<br />\n<em>Named 2022&rsquo\;s &ldquo\;Artist of the Year&rdquo\; by the Arkansas County Music Association</em>
LOCATION:Crowder College\, Farber Hall\, Wright Conference Center (601 Laclede Ave.\, Neosho\, MO)
UID:e.2144.8874
SEQUENCE:3
DTSTAMP:20260425T232324Z
URL:https://www.neoshocc.com/events/details/civil-war-symposium-presented-by-crowder-college-03-09-2023-8874
END:VEVENT

END:VCALENDAR
