BEGIN:VCALENDAR
VERSION:2.0
PRODID:-//ChamberMaster//Event Calendar 2.0//EN
METHOD:PUBLISH
X-PUBLISHED-TTL:P3D
REFRESH-INTERVAL:P3D
CALSCALE:GREGORIAN
BEGIN:VEVENT
DTSTART:20250619T220000Z
DTEND:20250619T233000Z
X-MICROSOFT-CDO-ALLDAYEVENT:FALSE
SUMMARY:Class of 2025 Family Medicine Residency Graduate Celebration
DESCRIPTION:Celebrating the Future of Family Medicine\n\nJoin Freeman Health System in honoring the Class of 2025 Family Residency graduates at a special Graduation Celebration. This event will recognize their hard work and dedication as they prepare to embark on their medical careers. The celebration takes place June 19\, 2025\, from 5:30 to 6:00 pm at the Neosho Area Chamber of Commerce\, 216 West Spring Street.
X-ALT-DESC;FMTTYPE=text/html:<strong data-end="97" data-start="52">Celebrating the Future of Family Medicine</strong><br data-end="100" data-start="97" />\nJoin Freeman Health System in honoring the Class of 2025 Family Residency graduates at a special Graduation Celebration. This event will recognize their hard work and dedication as they prepare to embark on their medical careers. The celebration takes place June 19\, 2025\, from 5:30 to 6:00 pm at the Neosho Area Chamber of Commerce\, 216 West Spring Street.
LOCATION:Neosho Area Chamber of Commerce 16 West Spring Street. Neosho\, Mo.
UID:e.2144.16504
SEQUENCE:3
DTSTAMP:20260424T074327Z
URL:https://www.neoshocc.com/events/details/class-of-2025-family-medicine-residency-graduate-celebration-16504
END:VEVENT

END:VCALENDAR
