BEGIN:VCALENDAR
VERSION:2.0
PRODID:-//ChamberMaster//Event Calendar 2.0//EN
METHOD:PUBLISH
X-PUBLISHED-TTL:P3D
REFRESH-INTERVAL:P3D
CALSCALE:GREGORIAN
BEGIN:VEVENT
DTSTART:20231104T130000Z
DTEND:20231104T200000Z
X-MICROSOFT-CDO-ALLDAYEVENT:FALSE
SUMMARY:Clays for a Cause 2023
DESCRIPTION:Clays for a Cause is a unique\, fun clay sporting event hosted by the Ozark Center-Bill & Virginia Leffen Center for Autism in Joplin\, MO. It is held at Shawnee Skies Shooting Complex in Wyandotte\, OK. The funds raised from this event are used to support families and children living with autism diagnosis as well as allow our health system to continue to provide the services. Clays for a Cause is a great event for being outdoors\, shooting clay in a safe\, gorgeous environment while supporting a great cause and becoming informed about autism. We will have cash prizes\, 50/50 pot\, side event\, plus some amazing raffles! Hope to see you there!
X-ALT-DESC;FMTTYPE=text/html:Clays for a Cause is a unique\, fun clay sporting event hosted by the Ozark Center-Bill &amp\; Virginia Leffen Center for Autism in Joplin\, MO. It is held at Shawnee Skies Shooting Complex in Wyandotte\, OK. The funds raised from this event are used to support families and children living with autism diagnosis as well as allow our health system to continue to provide the services.&nbsp\;Clays for a Cause is a great event for being outdoors\, shooting clay in a safe\, gorgeous environment while supporting a great cause and becoming informed about autism.&nbsp\;We will have cash prizes\, 50/50 pot\, side event\, plus some amazing raffles! Hope to see you there!<br />\n&nbsp\;
LOCATION:Shawnee Skies Shooting Complex 11245 S. 705 Rd. Wyandotte\, OK
UID:e.2144.10812
SEQUENCE:3
DTSTAMP:20260425T104138Z
URL:https://www.neoshocc.com/events/details/clays-for-a-cause-2023-10812
END:VEVENT

END:VCALENDAR
