BEGIN:VCALENDAR
VERSION:2.0
PRODID:-//ChamberMaster//Event Calendar 2.0//EN
METHOD:PUBLISH
X-PUBLISHED-TTL:P3D
REFRESH-INTERVAL:P3D
CALSCALE:GREGORIAN
BEGIN:VEVENT
DTSTART:20230428T213000Z
DTEND:20230428T233000Z
X-MICROSOFT-CDO-ALLDAYEVENT:FALSE
SUMMARY:Closing reception set for Gritten’s “Flora And Fauna”
DESCRIPTION:"Flora and Fauna" works by Al Gritten is currently on exhibit at the Neosho Arts Council's Big Spring Gallery. A closing reception is set for April 28 from 4:30pm to 6:30pm and is open to the public.
X-ALT-DESC;FMTTYPE=text/html:<span style="font-family:times new roman\,serif"><span style="font-size:12.0pt">&ldquo\;Flora and Fauna&rdquo\; works by Al Gritten is currently on exhibit at the Neosho Arts Council&rsquo\;s Big Spring Gallery. A closing reception is set for April 28 from 4:30pm to 6:30pm and is open to the public.</span></span><br />\n&nbsp\;
LOCATION:216 West Spring St
UID:e.2144.9896
SEQUENCE:3
DTSTAMP:20260425T214558Z
URL:https://www.neoshocc.com/events/details/closing-reception-set-for-gritten-s-flora-and-fauna-9896
END:VEVENT

END:VCALENDAR
