BEGIN:VCALENDAR
VERSION:2.0
PRODID:-//ChamberMaster//Event Calendar 2.0//EN
METHOD:PUBLISH
X-PUBLISHED-TTL:P3D
REFRESH-INTERVAL:P3D
CALSCALE:GREGORIAN
BEGIN:VEVENT
DTSTART:20230707T123000Z
DTEND:20230707T133000Z
X-MICROSOFT-CDO-ALLDAYEVENT:FALSE
SUMMARY:Coffee at The Fair - sponsored by Arvest Bank
DESCRIPTION:Coffee at the Fair!
X-ALT-DESC;FMTTYPE=text/html:Coffee at the Fair!
LOCATION:Newton County Fair Grounds 700 Field Ave Neosho\, MO 64850
UID:e.2144.9031
SEQUENCE:3
DTSTAMP:20260425T171103Z
URL:https://www.neoshocc.com/events/details/coffee-at-the-fair-sponsored-by-arvest-bank-9031
END:VEVENT

END:VCALENDAR
