BEGIN:VCALENDAR
VERSION:2.0
PRODID:-//ChamberMaster//Event Calendar 2.0//EN
METHOD:PUBLISH
X-PUBLISHED-TTL:P3D
REFRESH-INTERVAL:P3D
CALSCALE:GREGORIAN
BEGIN:VEVENT
DTSTART:20260115T160000Z
DTEND:20260115T170000Z
X-MICROSOFT-CDO-ALLDAYEVENT:FALSE
SUMMARY:Coffee with Carver: Expressions of the Soul
DESCRIPTION:George Washington Carver was a talented artist\, often inspired by the beauty of nature. This program "paints a picture" of Carver's love for art. Following the ranger-led program\, enjoy oil pastels with staff. Coffee and tea provided.
X-ALT-DESC;FMTTYPE=text/html:George Washington Carver was a talented artist\, often inspired by the beauty of&nbsp\;nature. This program &ldquo\;paints a picture&rdquo\; of Carver&rsquo\;s love for art. Following&nbsp\;the ranger-led program\, enjoy&nbsp\;oil pastels with staff. Coffee and tea provided.
LOCATION:George Washington Carver National Monument 5646 Carver Rd Diamond\, MO. 64840
UID:e.2144.18850
SEQUENCE:3
DTSTAMP:20260423T211042Z
URL:https://www.neoshocc.com/events/details/coffee-with-carver-expressions-of-the-soul-01-15-2026-18850
END:VEVENT

END:VCALENDAR
