BEGIN:VCALENDAR
VERSION:2.0
PRODID:-//ChamberMaster//Event Calendar 2.0//EN
METHOD:PUBLISH
X-PUBLISHED-TTL:P3D
REFRESH-INTERVAL:P3D
CALSCALE:GREGORIAN
BEGIN:VEVENT
DTSTART:20260319T150000Z
DTEND:20260319T160000Z
X-MICROSOFT-CDO-ALLDAYEVENT:FALSE
SUMMARY:Coffee with Carver: Herbs & Wild Edibles
DESCRIPTION:Explore George Washington Carver's agricultural and nutritional bulletins. Following the ranger red-program\, learn how to identify\, forage\, and prepare wild herbs and edibles with Volunteer-in-Park Linda.
X-ALT-DESC;FMTTYPE=text/html:Explore George Washington Carver&#39\;s agricultural and nutritional bulletins. Following the ranger red-program\, learn how to identify\, forage\, and prepare wild herbs and edibles with Volunteer-in-Park Linda.
LOCATION:George Washington Carver National Monument 5646 Carver Rd Diamond\, MO. 64840
UID:e.2144.18870
SEQUENCE:3
DTSTAMP:20260423T181320Z
URL:https://www.neoshocc.com/events/details/coffee-with-carver-herbs-wild-edibles-03-19-2026-18870
END:VEVENT

END:VCALENDAR
