BEGIN:VCALENDAR
VERSION:2.0
PRODID:-//ChamberMaster//Event Calendar 2.0//EN
METHOD:PUBLISH
X-PUBLISHED-TTL:P3D
REFRESH-INTERVAL:P3D
CALSCALE:GREGORIAN
BEGIN:VEVENT
DTSTART:20260219T160000Z
DTEND:20260219T170000Z
X-MICROSOFT-CDO-ALLDAYEVENT:FALSE
SUMMARY:Coffee With Carver: The Sweet Potato Man
DESCRIPTION:Before George Washington Carver was known for his work with peanuts\, he was making strides with the sweet potato. This program and cooking demonstration showcases some of Carver's sweet potato products.
X-ALT-DESC;FMTTYPE=text/html:Before George Washington Carver was known for his work with peanuts\, he was making strides with the sweet potato. This program and cooking demonstration&nbsp\;showcases some of Carver&rsquo\;s sweet potato products.
LOCATION:George Washington Carver NM 5646 Carver Rd. Diamond MO 64840
UID:e.2144.18861
SEQUENCE:3
DTSTAMP:20260423T193709Z
URL:https://www.neoshocc.com/events/details/coffee-with-carver-the-sweet-potato-man-18861
END:VEVENT

END:VCALENDAR
