BEGIN:VCALENDAR
VERSION:2.0
PRODID:-//ChamberMaster//Event Calendar 2.0//EN
METHOD:PUBLISH
X-PUBLISHED-TTL:P3D
REFRESH-INTERVAL:P3D
CALSCALE:GREGORIAN
BEGIN:VEVENT
DTSTART:20230225T170000Z
DTEND:20230226T010000Z
X-MICROSOFT-CDO-ALLDAYEVENT:FALSE
SUMMARY:Community Bank and Trust Bowl For Kids' Sake
DESCRIPTION:Bowl for Kids' Sake is Big Brothers Big Sisters' signature fundraiser. Every year\, teams come together to have fun and raise money to support Big Brothers Big Sisters. Bowl for Kids' Sake is the fun and easy way for individuals and companies to make an impact on the local community it only takes a little bit of effort to raise the money that is vital to our program's success. Fundraising teams collect donations and then celebrate their success by attending a bowling party.
X-ALT-DESC;FMTTYPE=text/html:<span style="color:rgb(0\, 0\, 0)\; font-family:zilla slab\,serif\; font-size:16px">Bowl for Kids&rsquo\; Sake is Big Brothers Big Sisters&rsquo\; signature fundraiser. Every year\, teams come together to have fun and raise money to support Big Brothers Big Sisters. Bowl for Kids&rsquo\; Sake is the fun and easy way for individuals and companies to make an impact on the local community&mdash\;it only takes a little bit of effort to raise the money that is vital to our program&rsquo\;s success. Fundraising teams collect donations and then celebrate their success by attending a bowling party.&nbsp\;</span>
LOCATION:Carl Richard 4th Street Bowl 1419 W 4th St Joplin MO 64801
UID:e.2144.8973
SEQUENCE:3
DTSTAMP:20260426T004152Z
URL:https://www.neoshocc.com/events/details/community-bank-and-trust-bowl-for-kids-sake-8973
END:VEVENT

END:VCALENDAR
