BEGIN:VCALENDAR
VERSION:2.0
PRODID:-//ChamberMaster//Event Calendar 2.0//EN
METHOD:PUBLISH
X-PUBLISHED-TTL:P3D
REFRESH-INTERVAL:P3D
CALSCALE:GREGORIAN
BEGIN:VEVENT
DTSTART:20260129T193000Z
DTEND:20260129T210000Z
X-MICROSOFT-CDO-ALLDAYEVENT:FALSE
SUMMARY:Community BINGO
DESCRIPTION:Join Oak Pointe of Neosho for Community Bingo an afternoon of fun\, laughter\, and friendly competition! ???? Enjoy great company\, exciting prizes\, and a chance to shout "BINGO!" Come play\, socialize\, and make memories with us!
X-ALT-DESC;FMTTYPE=text/html:Join Oak Pointe of Neosho for Community Bingo&mdash\;an afternoon of fun\, laughter\, and friendly competition! ???? Enjoy great company\, exciting prizes\, and a chance to shout &ldquo\;BINGO!&rdquo\; Come play\, socialize\, and make memories with us!
LOCATION:Oak Pointe of Neosho 2601 Oak Ridge Ext. Neosho\, MO 64850
UID:e.2144.18926
SEQUENCE:3
DTSTAMP:20260423T210305Z
URL:https://www.neoshocc.com/events/details/community-bingo-18926
END:VEVENT

END:VCALENDAR
