BEGIN:VCALENDAR
VERSION:2.0
PRODID:-//ChamberMaster//Event Calendar 2.0//EN
METHOD:PUBLISH
X-PUBLISHED-TTL:P3D
REFRESH-INTERVAL:P3D
CALSCALE:GREGORIAN
BEGIN:VEVENT
DTSTART:20230625T190000Z
DTEND:20230625T200000Z
X-MICROSOFT-CDO-ALLDAYEVENT:FALSE
SUMMARY:Community Sound Bath
DESCRIPTION:If you have never been to a sound bath before\, a new and exciting experience is here for you! Come in\, get comfortable and let your mind and body be nurtured and relaxed as the sound waves waft over you.\n\n\n\nBring a pillow\, blanket\, comfortable pad or reclining lawn chair and eye mask if you like. Lay back and let the sounds that have been used in healing for thousands of years fill your senses. These include singing bowls\, chimes\, gongs\, drums\, rattles and more.\n\n\n\nThis gentile restorative process helps with pain\, depression\, anxiety\, PTSD and more.
X-ALT-DESC;FMTTYPE=text/html:<span style="font-size:14px">If you have never been to a sound bath before\, a new and exciting experience is here for you! Come in\, get comfortable and let your mind and body be nurtured and relaxed as the sound waves waft over you.<br />\n<br />\nBring a pillow\, blanket\, comfortable pad or reclining lawn chair and eye mask if you like. Lay back and let the sounds that have been used in healing for thousands of years fill your senses. These include singing bowls\, chimes\, gongs\, drums\, rattles and more.<br />\n<br />\nThis gentile restorative process helps with pain\, depression\, anxiety\, PTSD and more.</span>
LOCATION:New Mac Electric Cooperative Community Room\, 12105 State Highway 86\, Neosho\, MO 64850
UID:e.2144.10451
SEQUENCE:3
DTSTAMP:20260425T184536Z
URL:https://www.neoshocc.com/events/details/community-sound-bath-10451
END:VEVENT

END:VCALENDAR
