BEGIN:VCALENDAR
VERSION:2.0
PRODID:-//ChamberMaster//Event Calendar 2.0//EN
METHOD:PUBLISH
X-PUBLISHED-TTL:P3D
REFRESH-INTERVAL:P3D
CALSCALE:GREGORIAN
BEGIN:VEVENT
DTSTART:20250913T230000Z
DTEND:20250914T010000Z
X-MICROSOFT-CDO-ALLDAYEVENT:FALSE
SUMMARY:Community Support Services of Missouri 3rd Annual Community Prom
DESCRIPTION:Join Community Support Services of Missouri for our 3rd Annual Community Prom for individuals with developmental disabilities on Saturday\, September 13\, from 6:00 pm - 8:00 pm at Hope City Church in Joplin!\n\n \n\nThis free event will feature a red carpet\, music\, dancing\, pizza\, photo opportunities\, and fun. Formal attire is encouraged.\n\n \n\nPlease RSVP by September 5. Click here to RSVP now: https://forms.gle/JsKDTBrrd8d5aD9TA\n\n \n\nThank you to Schreiber Foods for generously sponsoring this year's Community Prom\, ensuring this event is free to attend.
X-ALT-DESC;FMTTYPE=text/html:<div>Join Community Support Services of Missouri for our 3rd Annual Community Prom for individuals with developmental disabilities on Saturday\, September 13\, from 6:00 pm - 8:00 pm at Hope City Church in Joplin!<br>\n&nbsp\;</div>\n\n<div>This free event will feature a red carpet\, music\, dancing\, pizza\, photo opportunities\, and fun. Formal attire is encouraged.<br>\n&nbsp\;</div>\n\n<div>Please RSVP by September 5. Click here to RSVP now:&nbsp\;<a class="x1i10hfl xjbqb8w x1ejq31n x18oe1m7 x1sy0etr xstzfhl x972fbf x10w94by x1qhh985 x14e42zd x9f619 x1ypdohk xt0psk2 xe8uvvx xdj266r x14z9mp xat24cr x1lziwak xexx8yu xyri2b x18d9i69 x1c1uobl x16tdsg8 x1hl2dhg xggy1nq x1a2a7pz xkrqix3 x1sur9pj x1fey0fg x1s688f" href="https://forms.gle/JsKDTBrrd8d5aD9TA?fbclid=IwZXh0bgNhZW0CMTAAYnJpZBExZnVpRExxUjJvVktiT3o3OQEexeYwpa66jz-pp3hwd7tqslqcvI3sAfenSSVqW-fdf7v8pRCAr7ncNVuMre8_aem_9Rn18eOR7wsmuXyFbfskhQ" rel="nofollow noreferrer" style="color: rgb(0\, 100\, 209)\; cursor: pointer\; text-decoration-line: none\; list-style: none\; border-width: 0px\; margin: 0px\; text-align: inherit\; border-style: none\; padding: 0px\; box-sizing: border-box\; background-color: transparent\; outline: none\; -webkit-tap-highlight-color: transparent\; font-weight: 600\; touch-action: manipulation\; display: inline\; font-family: inherit\;" tabindex="0" target="_blank">https://forms.gle/JsKDTBrrd8d5aD9TA</a><br>\n&nbsp\;</div>\n\n<div>Thank you to Schreiber Foods for generously sponsoring this year's Community Prom\, ensuring this event is free to attend.&nbsp\;</div>\n
LOCATION:Hope City Church 1258 Jaguar Road\, Joplin\, MO 64804
UID:e.2144.18369
SEQUENCE:3
DTSTAMP:20260424T043508Z
URL:https://www.neoshocc.com/events/details/community-support-services-of-missouri-3rd-annual-community-prom-18369
END:VEVENT

END:VCALENDAR
