BEGIN:VCALENDAR
VERSION:2.0
PRODID:-//ChamberMaster//Event Calendar 2.0//EN
METHOD:PUBLISH
X-PUBLISHED-TTL:P3D
REFRESH-INTERVAL:P3D
CALSCALE:GREGORIAN
BEGIN:VEVENT
DTSTART:20230803T150000Z
DTEND:20230803T160000Z
X-MICROSOFT-CDO-ALLDAYEVENT:FALSE
SUMMARY:Construction Begins on Neosho Physician Group Building Interior/Exterior
DESCRIPTION:Freeman Press Conference for Neosho Office Expansion\n\nConstruction Begins on Neosho Physician Group Building Interior/Exterior\n\n \n\nWhat: Freeman Neosho Physician Group building expansion press conference\n\n \n\nWhen: 10:00 am Thursday\, Aug. 3\n\n \n\nWhere: 336 S. Jefferson Street\, Neosho\, Mo.\n\n \n\nBackground: Freeman Neosho Physician Group\, located across from Freeman Neosho Hospital\, will receive an extensive overhaul between now and November.\n\n \n\nA press conference will be held at 10:00 am Thursday\, Aug. 3\, concerning a $1.2 million expansion to the medical office building\, which provides Neosho and surrounding communities with convenient access to physicians and an array of medical services. A ribbon cutting ceremony will take place when the 4\,266-square-foot expansion opens to the public. The additional space allows for the support of six residency physicians beginning July 2024.\n\n \n\n"Freeman Neosho Hospital and Physician's Group are thrilled to serve as the rural tract location for Kansas City University's Family Medicine Residency Clinic\," said Renee Denton\, Freeman Neosho Hospital's Chief Operating Officer. "It is infrequent that a full residency clinic is available to a rural location\, so to have this clinic available in Neosho will be extremely beneficial and increase access to medical care right here at home."\n\n \n\nThe residency clinic adds two new residents each year for its three-year clinical experience. Typically\, these doctors in training develop skills in laboratory work\, medical procedures and patient care. In July 2022\, the clinic's first two residents\, Dr. Omar Rehman and Dr. Terrance Kelly\, began accepting patients at the clinic. Last month\, Dr. Brandyce Elia and Dr. Robert Morris joined the team. Two more doctors will be added next July.\n\n \n\n"As family medicine physicians\, our residency clinic provides care for entire families\, from birth to death\," Denton said. "This is a wonderful opportunity for those in our community who may be looking for a physician who can care for their newborn child or their great-grandparent\, to be able to establish with one physician and receive exceptional care."\n\n \n\nWhen completed\, the new addition will house 14 examination rooms\, two physician offices\, a consultation area and three support staff workstations for the Family Medicine Residency Clinic. The existing building's fire alarm system and various floor coverings will also be upgraded. Outside\, 10 additional parking spaces will be added.\n\n \n\nThe residency clinic is currently scheduling new patients   infants through seniors   and appointments can be made by calling 417.347.4200.\n\n \n\nMedia: Contact Kevin McClintock\, Media Relations Coordinator\, at 417.434.3458 if attending the press conference.\n\n \n\n###\n\n \n\n \n\nAbout Freeman Health System Locally owned\, not-for-profit and nationally recognized\, Freeman Health System includes Freeman Hospital West\, Freeman Hospital East\, Freeman Neosho Hospital and Ozark Center   the area's largest provider of behavioral health services   as well as two urgent care clinics\, dozens of physician clinics and a variety of specialty services. In 2022\, Freeman earned dozens of individual awards for medical excellence and patient safety from CareChex \, a quality rating system that helps consumers evaluate healthcare providers. U.S. News & World Report named Freeman Health System the Best Hospital in Southwest Missouri for 2021. With more than 320 physicians on staff representing more than 90 specialties\, Freeman provides cancer care\, heart care\, neurology and neurosurgery\, orthopaedics\, children's services and women's services.\n\nAdditionally\, Freeman is the only Children's Miracle Network Hospital in a 70-mile radius. For more information\, visit freemanhealth.com.
X-ALT-DESC;FMTTYPE=text/html:<p style="color: rgb(0\, 0\, 0)\; font-family: &quot\;Times New Roman&quot\;\; font-size: medium\;">Freeman Press Conference for Neosho Office Expansion</p>\n\n<p style="color: rgb(0\, 0\, 0)\; font-family: &quot\;Times New Roman&quot\;\; font-size: medium\;">Construction Begins on Neosho Physician Group Building Interior/Exterior</p>\n\n<p style="color: rgb(0\, 0\, 0)\; font-family: &quot\;Times New Roman&quot\;\; font-size: medium\;">&nbsp\;</p>\n\n<p style="color: rgb(0\, 0\, 0)\; font-family: &quot\;Times New Roman&quot\;\; font-size: medium\;">What: Freeman Neosho Physician Group building expansion press conference</p>\n\n<p style="color: rgb(0\, 0\, 0)\; font-family: &quot\;Times New Roman&quot\;\; font-size: medium\;">&nbsp\;</p>\n\n<p style="color: rgb(0\, 0\, 0)\; font-family: &quot\;Times New Roman&quot\;\; font-size: medium\;">When: 10:00 am Thursday\, Aug. 3</p>\n\n<p style="color: rgb(0\, 0\, 0)\; font-family: &quot\;Times New Roman&quot\;\; font-size: medium\;">&nbsp\;</p>\n\n<p style="color: rgb(0\, 0\, 0)\; font-family: &quot\;Times New Roman&quot\;\; font-size: medium\;">Where: 336 S. Jefferson Street\, Neosho\, Mo.</p>\n\n<p style="color: rgb(0\, 0\, 0)\; font-family: &quot\;Times New Roman&quot\;\; font-size: medium\;">&nbsp\;</p>\n\n<p style="color: rgb(0\, 0\, 0)\; font-family: &quot\;Times New Roman&quot\;\; font-size: medium\;">Background: Freeman Neosho Physician Group\, located across from Freeman Neosho Hospital\, will receive an extensive overhaul between now and November.</p>\n\n<p style="color: rgb(0\, 0\, 0)\; font-family: &quot\;Times New Roman&quot\;\; font-size: medium\;">&nbsp\;</p>\n\n<p style="color: rgb(0\, 0\, 0)\; font-family: &quot\;Times New Roman&quot\;\; font-size: medium\;">A press conference will be held at 10:00 am Thursday\, Aug. 3\, concerning a $1.2 million expansion to the medical office building\, which provides Neosho and surrounding communities with convenient access to physicians and an array of medical services. A ribbon cutting ceremony will take place when the 4\,266-square-foot expansion opens to the public. The additional space allows for the support of six residency physicians beginning July 2024.</p>\n\n<p style="color: rgb(0\, 0\, 0)\; font-family: &quot\;Times New Roman&quot\;\; font-size: medium\;">&nbsp\;</p>\n\n<p style="color: rgb(0\, 0\, 0)\; font-family: &quot\;Times New Roman&quot\;\; font-size: medium\;">&ldquo\;Freeman Neosho Hospital and Physician&rsquo\;s Group are thrilled to serve as the rural tract location for Kansas City University&rsquo\;s Family Medicine Residency Clinic\,&rdquo\; said Renee Denton\, Freeman Neosho Hospital&rsquo\;s Chief Operating Officer. &ldquo\;It is infrequent that a full residency clinic is available to a rural location\, so to have this clinic available in Neosho will be extremely beneficial and increase access to medical care right here at home.&rdquo\;</p>\n\n<p style="color: rgb(0\, 0\, 0)\; font-family: &quot\;Times New Roman&quot\;\; font-size: medium\;">&nbsp\;</p>\n\n<p style="color: rgb(0\, 0\, 0)\; font-family: &quot\;Times New Roman&quot\;\; font-size: medium\;">The residency clinic adds two new residents each year for its three-year clinical experience. Typically\, these doctors in training develop skills in laboratory work\, medical procedures and patient care. In July 2022\, the clinic&rsquo\;s first two residents\, Dr. Omar Rehman and Dr. Terrance Kelly\, began accepting patients at the clinic. Last month\, Dr. Brandyce Elia and Dr. Robert Morris joined the team. Two more doctors will be added next July.</p>\n\n<p style="color: rgb(0\, 0\, 0)\; font-family: &quot\;Times New Roman&quot\;\; font-size: medium\;">&nbsp\;</p>\n\n<p style="color: rgb(0\, 0\, 0)\; font-family: &quot\;Times New Roman&quot\;\; font-size: medium\;">&ldquo\;As family medicine physicians\, our residency clinic provides care for entire families\, from birth to death\,&rdquo\; Denton said. &ldquo\;This is a wonderful opportunity for those in our community who may be looking for a physician who can care for their newborn child or their great-grandparent\, to be able to establish with one physician and receive exceptional care.&rdquo\;</p>\n\n<p style="color: rgb(0\, 0\, 0)\; font-family: &quot\;Times New Roman&quot\;\; font-size: medium\;">&nbsp\;</p>\n\n<p style="color: rgb(0\, 0\, 0)\; font-family: &quot\;Times New Roman&quot\;\; font-size: medium\;">When completed\, the new addition will house 14 examination rooms\, two physician offices\, a consultation area and three support staff workstations for the Family Medicine Residency Clinic. The existing building&rsquo\;s fire alarm system and various floor coverings will also be upgraded. Outside\, 10 additional parking spaces will be added.</p>\n\n<p style="color: rgb(0\, 0\, 0)\; font-family: &quot\;Times New Roman&quot\;\; font-size: medium\;">&nbsp\;</p>\n\n<p style="color: rgb(0\, 0\, 0)\; font-family: &quot\;Times New Roman&quot\;\; font-size: medium\;">The residency clinic is currently scheduling new patients &ndash\; infants through seniors &ndash\; and appointments can be made by calling 417.347.4200.</p>\n\n<p style="color: rgb(0\, 0\, 0)\; font-family: &quot\;Times New Roman&quot\;\; font-size: medium\;">&nbsp\;</p>\n\n<p style="color: rgb(0\, 0\, 0)\; font-family: &quot\;Times New Roman&quot\;\; font-size: medium\;">Media: Contact Kevin McClintock\, Media Relations Coordinator\, at 417.434.3458 if attending the press conference.</p>\n\n<p style="color: rgb(0\, 0\, 0)\; font-family: &quot\;Times New Roman&quot\;\; font-size: medium\;">&nbsp\;</p>\n\n<p style="color: rgb(0\, 0\, 0)\; font-family: &quot\;Times New Roman&quot\;\; font-size: medium\;">###</p>\n\n<p style="color: rgb(0\, 0\, 0)\; font-family: &quot\;Times New Roman&quot\;\; font-size: medium\;">&nbsp\;</p>\n\n<p style="color: rgb(0\, 0\, 0)\; font-family: &quot\;Times New Roman&quot\;\; font-size: medium\;">&nbsp\;</p>\n\n<p style="color: rgb(0\, 0\, 0)\; font-family: &quot\;Times New Roman&quot\;\; font-size: medium\;">About Freeman Health System Locally owned\, not-for-profit and nationally recognized\, Freeman Health System includes Freeman Hospital West\, Freeman Hospital East\, Freeman Neosho Hospital and Ozark Center &ndash\; the area&rsquo\;s largest provider of behavioral health services &ndash\; as well as two urgent care clinics\, dozens of physician clinics and a variety of specialty services. In 2022\, Freeman earned dozens of individual awards for medical excellence and patient safety from CareChex&reg\;\, a quality rating system that helps consumers evaluate healthcare providers. U.S. News &amp\; World Report named Freeman Health System the Best Hospital in Southwest Missouri for 2021. With more than 320 physicians on staff representing more than 90 specialties\, Freeman provides cancer care\, heart care\, neurology and neurosurgery\, orthopaedics\, children&rsquo\;s services and women&rsquo\;s services.</p>\n\n<p style="color: rgb(0\, 0\, 0)\; font-family: &quot\;Times New Roman&quot\;\; font-size: medium\;">Additionally\, Freeman is the only Children&rsquo\;s Miracle Network Hospital in a 70-mile radius. For more information\, visit freemanhealth.com.</p>\n
LOCATION:336 S. Jefferson Street\, Neosho\, Mo.
UID:e.2144.10507
SEQUENCE:3
DTSTAMP:20260425T154414Z
URL:https://www.neoshocc.com/events/details/construction-begins-on-neosho-physician-group-building-interior-exterior-10507
END:VEVENT

END:VCALENDAR
