BEGIN:VCALENDAR
VERSION:2.0
PRODID:-//ChamberMaster//Event Calendar 2.0//EN
METHOD:PUBLISH
X-PUBLISHED-TTL:P3D
REFRESH-INTERVAL:P3D
CALSCALE:GREGORIAN
BEGIN:VEVENT
DTSTART:20230610T220000Z
DTEND:20230611T010000Z
X-MICROSOFT-CDO-ALLDAYEVENT:FALSE
SUMMARY:Cornhole Tournament - The Sho Food Truck Park
DESCRIPTION:Cornhole Tournament with CASH Prizes at The Sho Food Truck Park during the Grand Opening Celebration.  \n\nDouble Elimination\n\n2 Player Teams\n\nRegister Online https://docs.google.com/forms/d/e/1FAIpQLSeuqNjJ5LhVXV8oZvrK4gxgR47k5fvZ50vQDizUzGdj9o8ivw/viewform\nStarts at 5 pm\n\n$20 per team entry fee\n\n\n\nLive Music\, Games & Food Trucks starting at 11 am
X-ALT-DESC;FMTTYPE=text/html:Cornhole Tournament with CASH Prizes at The Sho Food Truck Park during the Grand Opening Celebration.&nbsp\;&nbsp\;<br />\nDouble Elimination<br />\n2 Player Teams<br />\nRegister Online&nbsp\;<span style="font-family:calibri\,sans-serif\;"><span style="font-size:11.0pt\;"><a href="https://docs.google.com/forms/d/e/1FAIpQLSeuqNjJ5LhVXV8oZvrK4gxgR47k5fvZ50vQDizUzGdj9o8ivw/viewform">https://docs.google.com/forms/d/e/1FAIpQLSeuqNjJ5LhVXV8oZvrK4gxgR47k5fvZ50vQDizUzGdj9o8ivw/viewform</a></span></span>\n<div>Starts at 5 pm<br />\n$20 per team entry fee<br />\n<br />\nLive Music\, Games &amp\; Food Trucks starting at 11 am</div>\n
LOCATION:The Sho Food Truck Park 625 W. Coler Neosho\, MO
UID:e.2144.10447
SEQUENCE:3
DTSTAMP:20260425T185108Z
URL:https://www.neoshocc.com/events/details/cornhole-tournament-the-sho-food-truck-park-10447
END:VEVENT

END:VCALENDAR
