BEGIN:VCALENDAR
VERSION:2.0
PRODID:-//ChamberMaster//Event Calendar 2.0//EN
METHOD:PUBLISH
X-PUBLISHED-TTL:P3D
REFRESH-INTERVAL:P3D
CALSCALE:GREGORIAN
BEGIN:VEVENT
DTSTART:20241028T160000Z
DTEND:20241028T173000Z
X-MICROSOFT-CDO-ALLDAYEVENT:FALSE
SUMMARY:Corporate Transparency Act: What You Need to Know
DESCRIPTION:Join us for an insightful training on Corporate Transparency Act: What You Need to Know\n\n\n\nDiscover the crucial details of the Corporate Transparency Act (CTA)\, including reporting requirements\, exemptions\, and penalties for non-compliance. Our business consultant will guide you through a comprehensive checklist\, offering practical insights and best practices to ensure that your small business stays compliant with the new LLC requirements.\n\n\n\nWhether you're a seasoned entrepreneur or just starting your business journey\, this training provides essential information to navigate the CTA and its implications for your LLC. Stay informed\, ask questions\, and network with fellow small business owners to enhance your understanding of the latest regulations.\n\n\n\n*Please note: The Missouri SBDC at MSSU Business Consultants are unable to give tax or legal advice. For specific tax and legal questions\, please direct those to your legal or accounting teams*
X-ALT-DESC;FMTTYPE=text/html:<span style="color: rgb(0\, 0\, 0)\; font-family: Lato\, Arial\, Helvetica\, sans-serif\; font-size: 16px\;">Join us for an insightful training on&nbsp\;</span><b style="color: rgb(0\, 0\, 0)\; font-family: Lato\, Arial\, Helvetica\, sans-serif\; font-size: 16px\;">Corporate Transparency Act: What You Need to Know</b><br style="color: rgb(0\, 0\, 0)\; font-family: Lato\, Arial\, Helvetica\, sans-serif\; font-size: 16px\;" />\n<br style="color: rgb(0\, 0\, 0)\; font-family: Lato\, Arial\, Helvetica\, sans-serif\; font-size: 16px\;" />\n<span style="color: rgb(0\, 0\, 0)\; font-family: Lato\, Arial\, Helvetica\, sans-serif\; font-size: 16px\;">Discover the crucial details of the Corporate Transparency Act (CTA)\, including reporting requirements\, exemptions\, and penalties for non-compliance. Our business consultant will guide you through a comprehensive checklist\, offering practical insights and best practices to ensure that your small business stays compliant with the new LLC requirements.</span><br style="color: rgb(0\, 0\, 0)\; font-family: Lato\, Arial\, Helvetica\, sans-serif\; font-size: 16px\;" />\n<br style="color: rgb(0\, 0\, 0)\; font-family: Lato\, Arial\, Helvetica\, sans-serif\; font-size: 16px\;" />\n<span style="color: rgb(0\, 0\, 0)\; font-family: Lato\, Arial\, Helvetica\, sans-serif\; font-size: 16px\;">Whether you&#39\;re a seasoned entrepreneur or just starting your business journey\, this training provides essential information to navigate the CTA and its implications for your LLC. Stay informed\, ask questions\, and network with fellow small business owners to enhance your understanding of the latest regulations.</span><br style="color: rgb(0\, 0\, 0)\; font-family: Lato\, Arial\, Helvetica\, sans-serif\; font-size: 16px\;" />\n<br style="color: rgb(0\, 0\, 0)\; font-family: Lato\, Arial\, Helvetica\, sans-serif\; font-size: 16px\;" />\n<span style="color: rgb(0\, 0\, 0)\; font-family: Lato\, Arial\, Helvetica\, sans-serif\; font-size: 16px\;">*Please note: The Missouri SBDC at MSSU Business Consultants are unable to give tax or legal advice. For specific tax and legal questions\, please direct those to your legal or accounting teams*</span>
LOCATION:Virtual Webinar via Zoom Participants will receive a Zoom prior to the training.
UID:e.2144.13738
SEQUENCE:3
DTSTAMP:20260424T190600Z
URL:https://www.neoshocc.com/events/details/corporate-transparency-act-what-you-need-to-know-13738
END:VEVENT

END:VCALENDAR
