BEGIN:VCALENDAR
VERSION:2.0
PRODID:-//ChamberMaster//Event Calendar 2.0//EN
METHOD:PUBLISH
X-PUBLISHED-TTL:P3D
REFRESH-INTERVAL:P3D
CALSCALE:GREGORIAN
BEGIN:VEVENT
DTSTART:20251018T150000Z
DTEND:20251018T210000Z
X-MICROSOFT-CDO-ALLDAYEVENT:FALSE
SUMMARY:Country Charm Bridal Expo 2025
DESCRIPTION:Experience everything you need for your dream wedding!  Join us for a day to meet local wedding professionals from Neosho\, Joplin and surrounding areas.  Our intimate venue will give you more time to meet and talk to local wedding vendors about your special day\, without feeling rushed or overwhelmed.  Come and be charmed by the picturesque and rustic Country Charm Event Venue\, and let us help you start planning your perfect day!
X-ALT-DESC;FMTTYPE=text/html:Experience everything you need for your dream wedding!&nbsp\; Join us for a day to meet local wedding professionals from Neosho\, Joplin and surrounding areas.&nbsp\; Our intimate venue will give you more time to meet and talk to local wedding vendors about your special day\, without feeling rushed or overwhelmed.&nbsp\; Come and be charmed by the picturesque and rustic Country Charm Event Venue\, and let us help you start planning your perfect day!
LOCATION:Country Charm Event Venue\, 18389 East Hwy 86\, Neosho\, MO 64850
UID:e.2144.16711
SEQUENCE:3
DTSTAMP:20260424T030655Z
URL:https://www.neoshocc.com/events/details/country-charm-bridal-expo-2025-16711
END:VEVENT

END:VCALENDAR
