BEGIN:VCALENDAR
VERSION:2.0
PRODID:-//ChamberMaster//Event Calendar 2.0//EN
METHOD:PUBLISH
X-PUBLISHED-TTL:P3D
REFRESH-INTERVAL:P3D
CALSCALE:GREGORIAN
BEGIN:VEVENT
DTSTART:20250606T233000Z
DTEND:20250607T013000Z
X-MICROSOFT-CDO-ALLDAYEVENT:FALSE
SUMMARY:Crawdads at the Creek
DESCRIPTION:Crawdads at the Creek\n\nJune 6\, 2025\, 6:30 pm Creekside in Wildcat Park\n\n$60 per ticket\n\nYou are invited to our fourth annual "Crawdads at the Creek" fundraising event at Wildcat Glades! Join us for a fun and delicious creekside crawdad dinner under a cozy\, twinkling tent. We will have live music to enjoy\, a dessert auction with sweet treats\, yard games to play\, surprise entertainment\, and plenty of time to relax and connect with nature while you savor your meal! Tickets are just $60 per person\, and that includes drinks. If you would like to enjoy some adult beverages\, those will be available for purchase too! Last year\, our tickets flew off the shelves\, so make sure to grab yours soon! You can find tickets by visiting https://bit.ly/CrawdadsAtTheCreek. We can't wait to celebrate with you! For more information\, visit our website
X-ALT-DESC;FMTTYPE=text/html:<strong><em><u><span style="color:#1c1c1c">Crawdads at the Creek</span></u></em></strong><br />\n<em><span style="color:#1c1c1c"><span style="font-family:arial\,sans-serif"><span style="font-size:10.5pt">June 6\, 2025\, 6:30 pm Creekside in Wildcat Park</span></span></span></em><br />\n<em><span style="color:#1c1c1c"><span style="font-family:arial\,sans-serif"><span style="font-size:10.5pt">$60 per ticket</span></span></span></em><br />\n<span style="color:#1c1c1c"><span style="font-family:arial\,sans-serif"><span style="font-size:10.5pt">You are invited to our fourth annual &quot\;Crawdads at the Creek&quot\; fundraising event at Wildcat Glades! Join us for a fun and delicious creekside crawdad dinner under a cozy\, twinkling tent. We will have live music to enjoy\, a dessert auction with sweet treats\, yard games to play\, surprise entertainment\, and plenty of time to relax and connect with nature while you savor your meal! Tickets are just $60 per person\, and that includes drinks. If you would like to enjoy some adult beverages\, those will be available for purchase too! Last year\, our tickets flew off the shelves\, so make sure to grab yours soon! You can find tickets by visiting https://bit.ly/CrawdadsAtTheCreek. We can&rsquo\;t wait to celebrate with you! For more information\, visit our website&nbsp\;</span></span></span>
LOCATION:Wildcat Park Joplin MO
UID:e.2144.16497
SEQUENCE:3
DTSTAMP:20260424T074113Z
URL:https://www.neoshocc.com/events/details/crawdads-at-the-creek-06-06-2025-16497
END:VEVENT

END:VCALENDAR
