BEGIN:VCALENDAR
VERSION:2.0
PRODID:-//ChamberMaster//Event Calendar 2.0//EN
METHOD:PUBLISH
X-PUBLISHED-TTL:P3D
REFRESH-INTERVAL:P3D
CALSCALE:GREGORIAN
BEGIN:VEVENT
DTSTART:20240607T233000Z
DTEND:20240608T023000Z
X-MICROSOFT-CDO-ALLDAYEVENT:FALSE
SUMMARY:Crawdads at the Creek
DESCRIPTION:Join us for the third annual "Crawdads at the Creek Event" held by Wildcat Glades. This event will feature a crawdad dinner creekside under a lit event tent. We will have live music\, a dessert auction\, yard games and fellowship with nature while you enjoy a delicious meal! Tickets are $50 a person. A table can be purchased for $400\, which seats 8 people. Drinks will be provided\, and alcoholic beverages will be available for additional purchase. Tickets to this event sold quickly last year\, so be sure to purchase yours soon! Tickets can be purchased by visiting https://bit.ly/CrawdadsAtTheCreek.
X-ALT-DESC;FMTTYPE=text/html:<p><span style="font-size:11.0pt">Join us for the third annual &ldquo\;Crawdads at the Creek Event&rdquo\; held by Wildcat Glades. This event will feature a crawdad dinner creekside under a lit event tent. We will have live music\, a dessert auction\, yard games and fellowship with nature while you enjoy a delicious meal! Tickets are $50 a person. A table can be purchased for $400\, which seats 8 people. Drinks will be provided\, and alcoholic beverages will be available for additional purchase. <strong>Tickets to this event sold quickly last year\, so be sure to purchase yours soon! Tickets can be purchased by visiting&nbsp\;</strong></span><a href="https://bit.ly/CrawdadsAtTheCreek"><strong>https://bit.ly/CrawdadsAtTheCreek.</strong></a></p>\n
LOCATION:Wildcat Park Pavilion 401 Riviera Drive Joplin\, MO 64804
UID:e.2144.9898
SEQUENCE:3
DTSTAMP:20260425T015558Z
URL:https://www.neoshocc.com/events/details/crawdads-at-the-creek-9898
END:VEVENT

END:VCALENDAR
