BEGIN:VCALENDAR
VERSION:2.0
PRODID:-//ChamberMaster//Event Calendar 2.0//EN
METHOD:PUBLISH
X-PUBLISHED-TTL:P3D
REFRESH-INTERVAL:P3D
CALSCALE:GREGORIAN
BEGIN:VEVENT
DTSTART:20221205T150000Z
DTEND:20230127T000000Z
X-MICROSOFT-CDO-ALLDAYEVENT:FALSE
SUMMARY:Crowder College Faculty Exhibition
DESCRIPTION:View the Crowder College Faculty Exhibition beginning December 5 through January 26 at the Longwell Museum. (Elsie Plaster Community Center\, 601 Laclede Ave.\, Neosho\, MO 64850) Join artists for a closing reception January 26 from 5pm-7pm.
X-ALT-DESC;FMTTYPE=text/html:<span style="font-size:12px"><span style="font-family:arial\,helvetica\,sans-serif"><span style="color:#333333">View the&nbsp\;</span>Crowder College Faculty Exhibition beginning December 5 through January 26 at the Longwell Museum. (Elsie Plaster Community Center\, 601 Laclede Ave.\, Neosho\, MO 64850) Join artists for a closing reception January 26 from 5pm-7pm.</span></span><br />\n&nbsp\;
LOCATION:The Longwell Museum\, Elsie Plaster Community Center Crowder College\, 601 Laclede Ave.\, Neosho\, MO 64850
UID:e.2144.8954
SEQUENCE:3
DTSTAMP:20260426T021551Z
URL:https://www.neoshocc.com/events/details/crowder-college-faculty-exhibition-12-05-2022-8954
END:VEVENT

END:VCALENDAR
