BEGIN:VCALENDAR
VERSION:2.0
PRODID:-//ChamberMaster//Event Calendar 2.0//EN
METHOD:PUBLISH
X-PUBLISHED-TTL:P3D
REFRESH-INTERVAL:P3D
CALSCALE:GREGORIAN
BEGIN:VEVENT
DTSTART:20241122T010000Z
DTEND:20241123T010000Z
X-MICROSOFT-CDO-ALLDAYEVENT:FALSE
SUMMARY:Crowder College Fall Theatre Student Showcase
DESCRIPTION:Crowder College Theatre Student Showcase presents an evening of monologues and scenes on November 21st & November 22nd at 7pm nightly - inside the Elsie Plaster Community Center black box theatre. (601 Laclede Ave.\, Neosho\, MO 64850). Produced entirely by students. Admission is one canned food item to be donated to the Rider Pantry.
X-ALT-DESC;FMTTYPE=text/html:Crowder College Theatre Student Showcase presents an evening of monologues and scenes on November 21st &amp\; November 22nd at 7pm nightly - inside the Elsie Plaster Community Center black box theatre. (601 Laclede Ave.\, Neosho\, MO 64850). Produced entirely by students. Admission is one canned food item to be donated to the Rider Pantry.
LOCATION:Elsie Plaster Auditorium 601 Laclede Ave.\, Neosho\, MO 64850
UID:e.2144.13917
SEQUENCE:3
DTSTAMP:20260424T173545Z
URL:https://www.neoshocc.com/events/details/crowder-college-fall-theatre-student-showcase-13917
END:VEVENT

END:VCALENDAR
