BEGIN:VCALENDAR
VERSION:2.0
PRODID:-//ChamberMaster//Event Calendar 2.0//EN
METHOD:PUBLISH
X-PUBLISHED-TTL:P3D
REFRESH-INTERVAL:P3D
CALSCALE:GREGORIAN
BEGIN:VEVENT
DTSTART:20231005T230000Z
DTEND:20231006T000000Z
X-MICROSOFT-CDO-ALLDAYEVENT:FALSE
SUMMARY:Crowder College History Symposium Presents Connie Langum
DESCRIPTION:The Crowder College History Symposium presents\, National Park Service Historian\, Connie Langum! Her lecture\, "The Battle of and For Wilson's Creek" continues the speaker series October 5 at 6pm in the Wright Conference Center (601 Laclede Ave.\, Neosho\, MO 64850).\n\n\n\nConnie is a 32-year employee of the National Park Service\, with 29 of those years being at Wilson's Creek National Battlefield.  She has an Associate of Arts degree from Crowder College\, Bachelor of Arts degree from Missouri Southern State College\, and a Master of Arts degree from Pittsburg State University. She is the Historian at Wilson's Creek and also manages the parks library. She and her husband Rick have one daughter\, Maddie\, who is a Junior at the University of Missouri.  Her hobbies include reading\, spending time with her family\, and traveling to Civil War sites.\n\n\n\nClick to view the full symposium schedule!\n\n\n\nCrowder College is sponsoring this program in partnership with the Missouri Humanities and with support from the Missouri Humanities Trust Fund.
X-ALT-DESC;FMTTYPE=text/html:<span style="font-size:12px"><strong>The Crowder College History Symposium presents</strong>\, National Park Service Historian\, Connie Langum! Her lecture\, &quot\;The Battle of and For Wilson&#39\;s Creek&quot\; continues the speaker series&nbsp\;<strong>October 5 at 6pm in the Wright Conference Center</strong>&nbsp\;(601 Laclede Ave.\, Neosho\, MO 64850).<br />\n<br />\n<span style="color:black">Connie is a 32-year employee of the National Park Service\, with 29 of those years being at Wilson&#39\;s Creek National Battlefield.&nbsp\; She has an Associate of Arts degree from Crowder College\, Bachelor of Arts degree from Missouri Southern State College\, and a Master of Arts degree from Pittsburg State University. She is the Historian at Wilson&#39\;s Creek and also manages the parks library. She and her husband Rick have one daughter\, Maddie\, who is a Junior at the University of Missouri. &nbsp\;Her hobbies include reading\, spending time with her family\, and traveling to Civil War sites.</span><br />\n<br />\n<a href="https://www.crowder.edu/academics/departments/social-science/"><strong>Click to view the full symposium schedule!</strong></a><br />\n<br />\n<em>Crowder College is sponsoring this program in partnership with the Missouri Humanities and with support from the Missouri Humanities Trust Fund.</em></span>
LOCATION:Wright Conference Center (601 Laclede Ave.\, Neosho\, MO 64850).
UID:e.2144.10784
SEQUENCE:3
DTSTAMP:20260425T121959Z
URL:https://www.neoshocc.com/events/details/crowder-college-history-symposium-presents-connie-langum-10784
END:VEVENT

END:VCALENDAR
