BEGIN:VCALENDAR
VERSION:2.0
PRODID:-//ChamberMaster//Event Calendar 2.0//EN
METHOD:PUBLISH
X-PUBLISHED-TTL:P3D
REFRESH-INTERVAL:P3D
CALSCALE:GREGORIAN
BEGIN:VEVENT
DTSTART:20260402T230000Z
DTEND:20260403T000000Z
X-MICROSOFT-CDO-ALLDAYEVENT:FALSE
SUMMARY:Crowder College History Symposium Presents Dr. Brooks Blevins
DESCRIPTION:The Social Science Division is preparing to start another History Symposium series of speakers for the Spring Semester. The first speaker\, Dr. Brooks Blevins will take to the podium in April where he will deliver his well-known presentation "How to Talk Ozark in Seven Simple Steps."\n\nDr. Blevins is the Noel Boyd Professor of Ozarks Studies at Missouri State University in Springfield and was born and raised in in rural Arkansas in the heart of the Ozarks. \n\nThe free event will take place on April 2 at 6pm at the Wright Conference center\, located upstairs inside the Arnold Farber Building at Crowder College Neosho (601 Laclede Ave.\, Neosho\, MO 64850).
X-ALT-DESC;FMTTYPE=text/html:<p><span style="font-family:lato\,sans-serif"><span style="font-size:12.0pt">The Social Science Division is preparing to start another History Symposium series of speakers for the Spring Semester. The first speaker\, Dr. Brooks Blevins will take to the podium in April where he will deliver his well-known presentation</span></span> <span style="font-family:lato\,sans-serif"><span style="font-size:12.0pt">&ldquo\;How to Talk Ozark in Seven Simple Steps.&rdquo\;</span></span><br />\n<span style="font-family:lato\,sans-serif"><span style="font-size:12.0pt">Dr. Blevins is the Noel Boyd Professor of Ozarks Studies at Missouri State University in Springfield and was born and raised in in rural Arkansas in the heart of the Ozarks.&nbsp\;</span></span><br />\n<span style="font-family:lato\,sans-serif"><span style="font-size:12.0pt">The free event will take place on April 2 at 6pm at the Wright Conference center\, located upstairs inside the Arnold Farber Building at Crowder College Neosho (601 Laclede Ave.\, Neosho\, MO 64850). </span></span><br />\n&nbsp\;</p>\n
LOCATION:Wright Conference center\, located upstairs inside the Arnold Farber Building at Crowder College Neosho (601 Laclede Ave.\, Neosho\, MO 64850).
UID:e.2144.19195
SEQUENCE:3
DTSTAMP:20260423T163720Z
URL:https://www.neoshocc.com/events/details/crowder-college-history-symposium-presents-dr-brooks-blevins-19195
END:VEVENT

END:VCALENDAR
