BEGIN:VCALENDAR
VERSION:2.0
PRODID:-//ChamberMaster//Event Calendar 2.0//EN
METHOD:PUBLISH
X-PUBLISHED-TTL:P3D
REFRESH-INTERVAL:P3D
CALSCALE:GREGORIAN
BEGIN:VEVENT
DTSTART:20250904T230000Z
DTEND:20250905T010000Z
X-MICROSOFT-CDO-ALLDAYEVENT:FALSE
SUMMARY:Crowder College History Symposium Presents: Dr. M. Jane Johansson
DESCRIPTION:The Crowder College History Symposium presents Dr. M. Jane Johansson! Her lecture will kick off the History Symposium series of speakers on September 4 at 6pm in the Wright Conference Center (601 Laclede Ave.\, Neosho\, MO 64850).\n\nOn September 4 at 6 pm\, the History Symposium will return  with a guest speaker inside the Wright Conference Center inside the Arnold Farber Hall building. Guest speaker Dr. M. Jane Johansson will kick off the History Symposium with her discussion of\, "constitutional Convention and some key delegates\, as well as discussion of the intense debates and issues surrounding ratification."
X-ALT-DESC;FMTTYPE=text/html:<div><span style="font-family:arial\,helvetica\,sans-serif">The Crowder College History Symposium presents&nbsp\;</span><span style="font-family:lato\,sans-serif\; font-size:16px">Dr. M. Jane Johansson</span><span style="font-family:arial\,helvetica\,sans-serif">! Her lecture will kick off the History Symposium series of speakers on&nbsp\;<strong>September 4 at 6pm in the Wright Conference Center</strong> (601 Laclede Ave.\, Neosho\, MO 64850).</span><br />\n<span style="font-family:lato\,sans-serif"><span style="font-size:12.0pt">On September 4 at 6 pm\, the History Symposium will return&nbsp\; with a guest speaker inside the Wright Conference Center inside the Arnold Farber Hall building. Guest speaker Dr. M. Jane Johansson will kick off the History Symposium with her discussion of\, &quot\;constitutional Convention and some key delegates\, as well as discussion of the intense debates and issues surrounding ratification.&quot\; </span></span></div>\n
LOCATION:Wright Conference Center (Crowder College\, Farber Hall\, 601 Laclede Ave.\, Neosho\, MO 64850).
UID:e.2144.18442
SEQUENCE:3
DTSTAMP:20260424T043301Z
URL:https://www.neoshocc.com/events/details/crowder-college-history-symposium-presents-dr-m-jane-johansson-18442
END:VEVENT

END:VCALENDAR
