BEGIN:VCALENDAR
VERSION:2.0
PRODID:-//ChamberMaster//Event Calendar 2.0//EN
METHOD:PUBLISH
X-PUBLISHED-TTL:P3D
REFRESH-INTERVAL:P3D
CALSCALE:GREGORIAN
BEGIN:VEVENT
DTSTART:20240919T230000Z
DTEND:20240920T010000Z
X-MICROSOFT-CDO-ALLDAYEVENT:FALSE
SUMMARY:Crowder College History Symposium Presents: Dr. Terry Beckenbaugh
DESCRIPTION:The Crowder College History Symposium presents Dr. Terry Beckenbaugh! His lecture will kick off the History Symposium series of speakers on September 19 at 6pm in the Wright Conference Center (601 Laclede Ave.\, Neosho\, MO 64850).\n\n\n\nTerry Beckenbaugh is currently an Associate Professor in the Department of Airpower at the Air Command and Staff College (ACSC) within Air University at Maxwell Air Force Base\, Montgomery\, Alabama.  He is working on a book tentatively titled\, Pragmatic Abolitionists: The White River Campaign in Arkansas\, 1862\, examining the mechanics of abolition and Confederate ideology on the Confederate War effort.  He received his Ph. D. from the University of Arkansas\, and his BA and MA in History from Shippensburg University of Pennsylvania.\n\n\n\nClick to view the full symposium schedule!\n\n\n\nCrowder College is sponsoring this program in partnership with the Missouri Humanities and with support from the Missouri Humanities Trust Fund.
X-ALT-DESC;FMTTYPE=text/html:<div><span style="font-size:12px"><span style="font-family:arial\,helvetica\,sans-serif">The Crowder College History Symposium presents Dr. Terry Beckenbaugh! His lecture will kick off the History Symposium series of speakers on&nbsp\;<strong>September 19 at 6pm in the Wright Conference Center</strong> (601 Laclede Ave.\, Neosho\, MO 64850).<br />\n<br />\nTerry Beckenbaugh is currently an Associate Professor in the Department of Airpower at the Air Command and Staff College (ACSC) within Air University at Maxwell Air Force Base\, Montgomery\, Alabama.&nbsp\; He is working on a book tentatively titled\, <em>Pragmatic Abolitionists: The White River Campaign in Arkansas\, 1862\, </em>examining the mechanics of abolition and Confederate ideology on the Confederate War effort.&nbsp\; He received his Ph. D. from the University of Arkansas\, and his BA and MA in History from Shippensburg University of Pennsylvania.</span></span></div>\n\n<div><br />\n<a href="https://www.crowder.edu/academics/departments/social-science/"><strong>Click to view the full symposium schedule!</strong></a><br />\n<br />\n<em>Crowder College is sponsoring this program in partnership with the Missouri Humanities and with support from the Missouri Humanities Trust Fund.</em></div>\n
LOCATION:Wright Conference Center (Crowder College\, Farber Hall\, 601 Laclede Ave.\, Neosho\, MO 64850).
UID:e.2144.13081
SEQUENCE:3
DTSTAMP:20260424T215343Z
URL:https://www.neoshocc.com/events/details/crowder-college-history-symposium-presents-dr-terry-beckenbaugh-13081
END:VEVENT

END:VCALENDAR
