BEGIN:VCALENDAR
VERSION:2.0
PRODID:-//ChamberMaster//Event Calendar 2.0//EN
METHOD:PUBLISH
X-PUBLISHED-TTL:P3D
REFRESH-INTERVAL:P3D
CALSCALE:GREGORIAN
BEGIN:VEVENT
DTSTART:20250203T150000Z
DTEND:20250228T020000Z
X-MICROSOFT-CDO-ALLDAYEVENT:FALSE
SUMMARY:Crowder College Longwell Museum to Host NHS Art Exhibit
DESCRIPTION:The Crowder College Longwell Museum will host the Neosho High School Art Exhibit until Feb. 27. \n\n\n\nAll artwork in this exhibit was created by Neosho High School students\, giving the community a chance to see young\, local artists' creativity. \n\n\n\nThe exhibit will be available until Feb. 27\, when a closing reception will be held from 5 pm to 7 pm. Until the 27th\, visitors to the Crowder College Longwell Museum can see the art from 9 am to 6pm. The museum is closed on holidays and weekends. \n\n\n\nThe Longwell Museum is located in the Elsie Plaster Community Center at Crowder College. (601 Laclede Ave.\, Neosho\, MO 64850).
X-ALT-DESC;FMTTYPE=text/html:The Crowder College Longwell Museum will host the Neosho High School Art Exhibit until Feb. 27.&nbsp\;<br />\n<br />\nAll artwork in this exhibit was created by Neosho High School students\, giving the community a chance to see young\, local artists&#39\; creativity.&nbsp\;<br />\n<br />\nThe exhibit will be available until Feb. 27\, when a closing reception will be held from 5 pm to 7 pm. Until the 27th\, visitors to the Crowder College Longwell Museum can see the art from 9 am to 6pm. The museum is closed on holidays and weekends.&nbsp\;<br />\n<br />\nThe Longwell Museum is located in the Elsie Plaster Community Center at Crowder College. (601 Laclede Ave.\, Neosho\, MO 64850).
LOCATION:The Longwell Museum\, Elsie Plaster Community Center Crowder College. (601 Laclede Ave.\, Neosho\, MO 64850)
UID:e.2144.14925
SEQUENCE:3
DTSTAMP:20260424T133312Z
URL:https://www.neoshocc.com/events/details/crowder-college-longwell-museum-to-host-nhs-art-exhibit-14925
END:VEVENT

END:VCALENDAR
