BEGIN:VCALENDAR
VERSION:2.0
PRODID:-//ChamberMaster//Event Calendar 2.0//EN
METHOD:PUBLISH
X-PUBLISHED-TTL:P3D
REFRESH-INTERVAL:P3D
CALSCALE:GREGORIAN
BEGIN:VEVENT
DTSTART:20251207T200000Z
DTEND:20251207T220000Z
X-MICROSOFT-CDO-ALLDAYEVENT:FALSE
SUMMARY:Crowder College Music Presents: Sounds of Students
DESCRIPTION:Crowder College Music Presents: Sounds of Students!\n\nJoin us to hear a variety of Holiday music performed via piano\, voice and guitar by Mr. Janes' first-semester Applied Music students as well as Neosho community students! \n\nHeld on Sunday\, December 7th at 2pm in the Elsie Plaster Theatre inside the Elsie Plaster Community Center\, located at Crowder College Neosho - 601 Laclede Ave.\, Neosho\, MO.\n\nThis event is free and open to the public.
X-ALT-DESC;FMTTYPE=text/html:<p><span style="background-color:transparent\; color:rgb(23\, 43\, 77)\; font-family:lato\,sans-serif\; font-size:12pt">Crowder College Music Presents: Sounds of Students!<br />\nJoin us to hear a variety of Holiday music performed via piano\, voice and guitar by Mr. Janes&#39\; first-semester Applied Music students as well as Neosho community students!&nbsp\;<br />\nHeld on Sunday\, December 7th at 2pm in the Elsie Plaster Theatre inside the Elsie Plaster Community Center\, located at Crowder College Neosho - 601 Laclede Ave.\, Neosho\, MO.<br />\nThis event is free and open to the public.</span></p>\n\n<div>&nbsp\;</div>\n
LOCATION:Sunday\, December 7th at 2pm in the Elsie Plaster Theatre inside the Elsie Plaster Community Center\, located at Crowder College Neosho - 601 Laclede Ave.\, Neosho\, MO.
UID:e.2144.18815
SEQUENCE:3
DTSTAMP:20260423T224959Z
URL:https://www.neoshocc.com/events/details/crowder-college-music-presents-sounds-of-students-18815
END:VEVENT

END:VCALENDAR
