BEGIN:VCALENDAR
VERSION:2.0
PRODID:-//ChamberMaster//Event Calendar 2.0//EN
METHOD:PUBLISH
X-PUBLISHED-TTL:P3D
REFRESH-INTERVAL:P3D
CALSCALE:GREGORIAN
BEGIN:VEVENT
DTSTART:20240817T003000Z
DTEND:20240818T003000Z
X-MICROSOFT-CDO-ALLDAYEVENT:FALSE
SUMMARY:Crowder College Roughrider Rodeo
DESCRIPTION:Enjoy LIVE entertainment at the 12th Annual Crowder College Roughrider Rodeo\, August 16 & 17 beginning nightly at 7:30pm. (608 W Field\, Neosho\, MO) Proceeds benefit Crowder Agriculture students.\n\n	LIVE Performance: Seth Rice\n	Mutton Busting & Peewee Events Nightly\n	Various Vendors & Concessions\n	Good Western Family Fun\n\n\n\nPurchase advance tickets online crowderbookstore.com/product-category/tickets/ \, or in person at the Crowder College Bookstore\, First Community Bank and Eric Norris State Farm Insurance. \n\n\n\nTickets will be available at gate for an additional $2
X-ALT-DESC;FMTTYPE=text/html:<span style="color:rgb(23\, 43\, 77)\; font-family:-apple-system\,blinkmacsystemfont\,segoe ui\,roboto\,noto sans\,ubuntu\,droid sans\,helvetica neue\,sans-serif\; font-size:14px">Enjoy LIVE entertainment at the 12th Annual <strong>Crowder College Roughrider Rodeo\, August 16 &amp\; 17</strong> beginning nightly at 7:30pm. (608 W Field\, Neosho\, MO) Proceeds benefit Crowder Agriculture students.</span>\n<ul>\n	<li><span style="font-size:14px">LIVE Performance: Seth Rice</span></li>\n	<li><span style="color:rgb(23\, 43\, 77)\; font-family:-apple-system\,blinkmacsystemfont\,segoe ui\,roboto\,noto sans\,ubuntu\,droid sans\,helvetica neue\,sans-serif\; font-size:14px">Mutton Busting &amp\; Peewee Events Nightly</span></li>\n	<li><span style="color:rgb(23\, 43\, 77)\; font-family:-apple-system\,blinkmacsystemfont\,segoe ui\,roboto\,noto sans\,ubuntu\,droid sans\,helvetica neue\,sans-serif\; font-size:14px">Various Vendors &amp\; Concessions</span></li>\n	<li><span style="color:rgb(23\, 43\, 77)\; font-family:-apple-system\,blinkmacsystemfont\,segoe ui\,roboto\,noto sans\,ubuntu\,droid sans\,helvetica neue\,sans-serif\; font-size:14px">Good Western Family Fun</span></li>\n</ul>\n<br />\n<span style="color:rgb(23\, 43\, 77)\; font-family:-apple-system\,blinkmacsystemfont\,segoe ui\,roboto\,noto sans\,ubuntu\,droid sans\,helvetica neue\,sans-serif\; font-size:14px"><strong>Purchase advance tickets</strong> online&nbsp\;</span><a href="https://crowderbookstore.com/product-category/tickets/">crowderbookstore.com/product-category/tickets/</a><span style="color:rgb(23\, 43\, 77)\; font-family:-apple-system\,blinkmacsystemfont\,segoe ui\,roboto\,noto sans\,ubuntu\,droid sans\,helvetica neue\,sans-serif\; font-size:14px">&nbsp\;\, or in person at the Crowder College Bookstore\, First Community Bank and Eric Norris State Farm Insurance.&nbsp\;<br />\n<br />\nTickets will be available at gate for an additional $2</span>
LOCATION:608 W Field\, Neosho\, MO\, 64850
UID:e.2144.12220
SEQUENCE:3
DTSTAMP:20260424T232304Z
URL:https://www.neoshocc.com/events/details/crowder-college-roughrider-rodeo-08-16-2024-12220
END:VEVENT

END:VCALENDAR
