BEGIN:VCALENDAR
VERSION:2.0
PRODID:-//ChamberMaster//Event Calendar 2.0//EN
METHOD:PUBLISH
X-PUBLISHED-TTL:P3D
REFRESH-INTERVAL:P3D
CALSCALE:GREGORIAN
BEGIN:VEVENT
DTSTART:20250414T140000Z
DTEND:20250502T000000Z
X-MICROSOFT-CDO-ALLDAYEVENT:FALSE
SUMMARY:Crowder College Student Art Exhibit 2025
DESCRIPTION:Starting on April 14th and wrapping up on the 1st of May\, the Crowder College Fine Arts Department presents the Student Art Exhibit for 2025. The show includes the artworks of students enrolled in various art courses\, from drawing and 2D design to 3D design and sculpture making. Using acrylics\, ceramics\, ink\, fabrics and textiles - even found objects\, these students have put up to 300 hours into some of their projects. This year doesn't necessarily come with a set theme\, but it does come with the emphasis of finishing professional work and contemporary installation. \n \n\nA closing reception will be held on May 1st from 5pm - 7 pm at the Crowder College Longwell Museum. \n \n\nThe entire exhibit is open to the publics' viewing at the Crowder College Longwell Museum inside the Elsie Plaster Community Center - located at 601 Laclede Avenue\, Neosho\, MO. Hours of operation are Monday   Friday from 9 am to 6:30 pm.
X-ALT-DESC;FMTTYPE=text/html:<p><span style="background-color:transparent\; color:rgb(0\, 0\, 0)\; font-family:lato\,sans-serif\; font-size:12pt">Starting on April 14th and wrapping up on the 1st of May\, the Crowder College Fine Arts Department presents the Student Art Exhibit for 2025. The show includes the artworks of students enrolled in various art courses\, from drawing and 2D design to 3D design and sculpture making. Using acrylics\, ceramics\, ink\, fabrics and textiles - even found objects\, these students have put up to 300 hours into some of their projects. This year doesn&rsquo\;t necessarily come with a set theme\, but it does come with the emphasis of finishing professional work and contemporary installation.&nbsp\;</span></p>\n&nbsp\;\n\n<p><span style="background-color:transparent\; color:rgb(0\, 0\, 0)\; font-family:lato\,sans-serif\; font-size:12pt">A closing reception will be held on May 1st from 5pm - 7 pm at the Crowder College Longwell Museum.&nbsp\;</span></p>\n&nbsp\;\n\n<p><span style="background-color:transparent\; color:rgb(0\, 0\, 0)\; font-family:lato\,sans-serif\; font-size:12pt">The entire exhibit is open to the publics&rsquo\; viewing at the Crowder College Longwell Museum inside the Elsie Plaster Community Center - located at 601 Laclede Avenue\, Neosho\, MO. Hours of operation are Monday &ndash\; Friday from 9 am to 6:30 pm.</span></p>\n\n<div>&nbsp\;</div>\n
LOCATION:The Longwell Museum\, Elsie Plaster Community Center Crowder College. (601 Laclede Ave.\, Neosho\, MO 64850)
UID:e.2144.16415
SEQUENCE:3
DTSTAMP:20260424T092313Z
URL:https://www.neoshocc.com/events/details/crowder-college-student-art-exhibit-2025-16415
END:VEVENT

END:VCALENDAR
