BEGIN:VCALENDAR
VERSION:2.0
PRODID:-//ChamberMaster//Event Calendar 2.0//EN
METHOD:PUBLISH
X-PUBLISHED-TTL:P3D
REFRESH-INTERVAL:P3D
CALSCALE:GREGORIAN
BEGIN:VEVENT
DTSTART:20231109T000000Z
DTEND:20231109T020000Z
X-MICROSOFT-CDO-ALLDAYEVENT:FALSE
SUMMARY:Crowder College Women's Basketball Home Opener
DESCRIPTION:Cheer on the Roughriders as Women's Basketball opens their season at home November 8\, 6pm\, Bob Sneller Gymnasium! (601 Laclede Ave.\, Neosho\, MO)\n\n\n\nView their full schedule: www.crowderathletics.com
X-ALT-DESC;FMTTYPE=text/html:Cheer on the Roughriders as Women&#39\;s Basketball opens their season at home November 8\, 6pm\, Bob Sneller Gymnasium! (601 Laclede Ave.\, Neosho\, MO)<br />\n<br />\nView their full schedule: <a href="http://www.crowderathletics.com">www.crowderathletics.com</a>
LOCATION:Crowder College Bob Sneller Gymnasium 601 Laclede Ave.\, Neosho\, MO 64850
UID:e.2144.11049
SEQUENCE:3
DTSTAMP:20260425T105400Z
URL:https://www.neoshocc.com/events/details/crowder-college-women-s-basketball-home-opener-11049
END:VEVENT

END:VCALENDAR
