BEGIN:VCALENDAR
VERSION:2.0
PRODID:-//ChamberMaster//Event Calendar 2.0//EN
METHOD:PUBLISH
X-PUBLISHED-TTL:P3D
REFRESH-INTERVAL:P3D
CALSCALE:GREGORIAN
BEGIN:VEVENT
DTSTART:20241005T000000Z
DTEND:20241006T190000Z
X-MICROSOFT-CDO-ALLDAYEVENT:FALSE
SUMMARY:Crowder Theatre Presents: Hallelujah Girls
DESCRIPTION:Hallelujah Girls: Written by Jessie Jones\, Nicholas Hope & Jamie Wooten Theme: The Joys of Friendship This hysterical journey of three women takes place in the iconic southern lifestyle of Georgia. These ladies have their own debacles of life to handle\, but the real conundrum arrives when a wellknown ex-boyfriend makes a return to their corner of the world. Will the three ladies solve the world's problems and sing with joy and laughter? Find out this semester!
X-ALT-DESC;FMTTYPE=text/html:Hallelujah Girls: Written by Jessie Jones\, Nicholas Hope &amp\; Jamie Wooten Theme: The Joys of Friendship This hysterical journey of three women takes place in the iconic southern lifestyle of Georgia. These ladies have their own debacles of life to handle\, but the real conundrum arrives when a wellknown ex-boyfriend makes a return to their corner of the world. Will the three ladies solve the world&rsquo\;s problems and sing with joy and laughter? Find out this semester!<br />\n&nbsp\;
LOCATION:Elsie Plaster Community Center on the Crowder College campus in Neosho
UID:e.2144.13078
SEQUENCE:3
DTSTAMP:20260424T190917Z
URL:https://www.neoshocc.com/events/details/crowder-theatre-presents-hallelujah-girls-13078
END:VEVENT

END:VCALENDAR
