BEGIN:VCALENDAR
VERSION:2.0
PRODID:-//ChamberMaster//Event Calendar 2.0//EN
METHOD:PUBLISH
X-PUBLISHED-TTL:P3D
REFRESH-INTERVAL:P3D
CALSCALE:GREGORIAN
BEGIN:VEVENT
DTSTART;VALUE=DATE:20240908
DTEND;VALUE=DATE:20240909
TRANSP:TRANSPARENT
X-MICROSOFT-CDO-ALLDAYEVENT:TRUE
SUMMARY:Crowder Ultimate Dodgeball Tournament
DESCRIPTION:ATTENTION ALUMNI & COMMUNITY MEMBERS! We're challenging teams of Crowder students\, employees\, alumni\, and community members in a Ultimate Dodgeball Tournament\, September 16 at 6:30pm (Bob Sneller Gymnasium).\n\n \n\nAssemble your team (4 - 8 players) and register by September 8: forms.office.com/r/9tV1BvcJn2 (Don't have a team? Register and we will draft you!)\n\n \n\nWho will dominate to claim bragging rights and exclusive champion team t-shirts? (All participants must be 18+ and sign a waiver upon entry.)
X-ALT-DESC;FMTTYPE=text/html:<p><strong><u>ATTENTION ALUMNI &amp\; COMMUNITY MEMBERS! </u></strong>We&rsquo\;re challenging teams of Crowder students\, employees\, alumni\, and community members in a <strong>Ultimate Dodgeball Tournament\, September 16 at 6:30pm </strong>(Bob Sneller Gymnasium).</p>\n\n<p>&nbsp\;</p>\n\n<p>Assemble your team (4 - 8 players) and<strong> register by September 8</strong>: <a href="https://forms.office.com/r/9tV1BvcJn2">forms.office.com/r/9tV1BvcJn2</a> (<em><strong>Don&#39\;t have a team?</strong>&nbsp\;Register and we will draft you!</em>)</p>\n\n<p>&nbsp\;</p>\n\n<p>Who will dominate to claim bragging rights and exclusive champion team t-shirts? (All participants must be 18+ and sign a waiver upon entry.)</p>\n
LOCATION:Bob Sneller Gymnasium. 601 Laclede Ave.\, Neosho MO 64850
UID:e.2144.13052
SEQUENCE:3
DTSTAMP:20260424T203334Z
URL:https://www.neoshocc.com/events/details/crowder-ultimate-dodgeball-tournament-13052
END:VEVENT

END:VCALENDAR
