BEGIN:VCALENDAR
VERSION:2.0
PRODID:-//ChamberMaster//Event Calendar 2.0//EN
METHOD:PUBLISH
X-PUBLISHED-TTL:P3D
REFRESH-INTERVAL:P3D
CALSCALE:GREGORIAN
BEGIN:VEVENT
DTSTART:20241026T200000Z
DTEND:20241027T010000Z
X-MICROSOFT-CDO-ALLDAYEVENT:FALSE
SUMMARY:Crusin' Canines Car Show
DESCRIPTION:Join us for the A DOG'S DREAM Cruisin Canines Car Show\, a fundraiser to benefit A Dog's Dream dog adoption program. Bring out your classic cars\, trucks\, and hot rods for a day of family fun and furry friends. Enjoy live music\, food vendors\, a silent auction\, and prizes for the best in show vehicles. All proceeds will go directly to supporting our mission of finding forever homes for retired breeding dogs. The car show will be held on Saturday\, October 26th\, from 3pm to 8pm at the MYP Legacy Event Center. We can't wait to see you and your amazing rides there!
X-ALT-DESC;FMTTYPE=text/html:Join us for the A DOG&#39\;S DREAM Cruisin Canines Car Show\, a fundraiser to benefit A Dog&#39\;s Dream dog adoption program. Bring out your classic cars\, trucks\, and hot rods for a day of family fun and furry friends. Enjoy live music\, food vendors\, a silent auction\, and prizes for the best in show vehicles. All proceeds will go directly to supporting our mission of finding forever homes for retired breeding dogs. The car show will be held on Saturday\, October 26th\, from 3pm to 8pm at the MYP Legacy Event Center. We can&#39\;t wait to see you and your amazing rides there!
LOCATION:180 N Hwy 49 Neosho\, MO 64850
UID:e.2144.13067
SEQUENCE:3
DTSTAMP:20260424T190550Z
URL:https://www.neoshocc.com/events/details/crusin-canines-car-show-13067
END:VEVENT

END:VCALENDAR
