BEGIN:VCALENDAR
VERSION:2.0
PRODID:-//ChamberMaster//Event Calendar 2.0//EN
METHOD:PUBLISH
X-PUBLISHED-TTL:P3D
REFRESH-INTERVAL:P3D
CALSCALE:GREGORIAN
BEGIN:VEVENT
DTSTART:20240908T184500Z
DTEND:20240908T220000Z
X-MICROSOFT-CDO-ALLDAYEVENT:FALSE
SUMMARY:Day of Service
DESCRIPTION:The Neosho Area Clergy Coalition is Sponsoring a Day of Service on Sunday\, September 8\, 2024.
X-ALT-DESC;FMTTYPE=text/html:The Neosho Area Clergy Coalition is Sponsoring a Day of Service on Sunday\, September 8\, 2024.&nbsp\;&nbsp\;
LOCATION:1:45 meet at Big Spring Park
UID:e.2144.13051
SEQUENCE:3
DTSTAMP:20260424T203414Z
URL:https://www.neoshocc.com/events/details/day-of-service-13051
END:VEVENT

END:VCALENDAR
