BEGIN:VCALENDAR
VERSION:2.0
PRODID:-//ChamberMaster//Event Calendar 2.0//EN
METHOD:PUBLISH
X-PUBLISHED-TTL:P3D
REFRESH-INTERVAL:P3D
CALSCALE:GREGORIAN
BEGIN:VEVENT
DTSTART:20250830T010000Z
DTEND:20250830T040000Z
X-MICROSOFT-CDO-ALLDAYEVENT:FALSE
SUMMARY:Devin Hames Band Live Music at Osage Spring
DESCRIPTION:Devin Hames & the gang are BACK live at Osage Spring. Join us for dinner specials\, steak\, craft cocktails & local tunes all night long!
X-ALT-DESC;FMTTYPE=text/html:Devin Hames &amp\; the gang are BACK live at Osage Spring. Join us for dinner specials\, steak\, craft cocktails &amp\; local tunes all night long!&nbsp\;
LOCATION:200 E. Spring St Neosho\, MO
UID:e.2144.18439
SEQUENCE:3
DTSTAMP:20260424T043143Z
URL:https://www.neoshocc.com/events/details/devin-hames-band-live-music-at-osage-spring-18439
END:VEVENT

END:VCALENDAR
