BEGIN:VCALENDAR
VERSION:2.0
PRODID:-//ChamberMaster//Event Calendar 2.0//EN
METHOD:PUBLISH
X-PUBLISHED-TTL:P3D
REFRESH-INTERVAL:P3D
CALSCALE:GREGORIAN
BEGIN:VEVENT
DTSTART:20240802T230000Z
DTEND:20240803T020000Z
X-MICROSOFT-CDO-ALLDAYEVENT:FALSE
SUMMARY:Devin Hames Live Music at Eastside Social
DESCRIPTION:Devin Hames is Back at Eastside Social!\n\nJoin us for an evening of great music as Devin Hames returns to jam on the patio. Mark your calendars for August 2nd\, from 6pm to 9pm! It's going to be a fun time see you downtown!
X-ALT-DESC;FMTTYPE=text/html:<div>\n<div>\n<div>\n<div>\n<p><strong>Devin Hames is Back at Eastside Social!</strong></p>\n\n<p>Join us for an evening of great music as Devin Hames returns to jam on the patio. Mark your calendars for August 2nd\, from 6pm to 9pm! It&#39\;s going to be a fun time&mdash\;see you downtown!</p>\n</div>\n</div>\n</div>\n</div>\n\n<div>\n<div>&nbsp\;</div>\n\n<div>\n<div>&nbsp\;</div>\n</div>\n</div>\n
LOCATION:Eastside Social 113 S Washington St. Neosho MO
UID:e.2144.12224
SEQUENCE:3
DTSTAMP:20260424T215721Z
URL:https://www.neoshocc.com/events/details/devin-hames-live-music-at-eastside-social-12224
END:VEVENT

END:VCALENDAR
