BEGIN:VCALENDAR
VERSION:2.0
PRODID:-//ChamberMaster//Event Calendar 2.0//EN
METHOD:PUBLISH
X-PUBLISHED-TTL:P3D
REFRESH-INTERVAL:P3D
CALSCALE:GREGORIAN
BEGIN:VEVENT
DTSTART:20250509T230000Z
DTEND:20250510T020000Z
X-MICROSOFT-CDO-ALLDAYEVENT:FALSE
SUMMARY:Dillon Leggett Live Music At Eastside Social
DESCRIPTION:?? Dillon Leggett is back at Eastside Social! ??May 9th from 6pm to 9pm
X-ALT-DESC;FMTTYPE=text/html:<span style="color:rgb(35\, 31\, 32)\; font-family:brandon-grotesque\; font-size:22.4px">?? </span><strong>Dillon Leggett is back at Eastside Social!</strong><span style="color:rgb(35\, 31\, 32)\; font-family:brandon-grotesque\; font-size:22.4px"> ??May 9th from 6pm to 9pm&nbsp\;</span>
LOCATION:Downtown Neosho113 South Washington Street
UID:e.2144.16375
SEQUENCE:3
DTSTAMP:20260424T092729Z
URL:https://www.neoshocc.com/events/details/dillon-leggett-live-music-at-eastside-social-05-09-2025-16375
END:VEVENT

END:VCALENDAR
