BEGIN:VCALENDAR
VERSION:2.0
PRODID:-//ChamberMaster//Event Calendar 2.0//EN
METHOD:PUBLISH
X-PUBLISHED-TTL:P3D
REFRESH-INTERVAL:P3D
CALSCALE:GREGORIAN
BEGIN:VEVENT
DTSTART:20250830T230000Z
DTEND:20250831T020000Z
X-MICROSOFT-CDO-ALLDAYEVENT:FALSE
SUMMARY:Dillon Leggett Live Music At Eastside Social
DESCRIPTION:Close out the month with an evening of live music on the patio from Dillon Leggett! With a set full of well-loved covers and an easygoing vibe\, Dillon brings the perfect soundtrack for a laid-back Saturday night. Come out\, relax\, and enjoy great food\, cold drinks\, and live music under the summer sky.
X-ALT-DESC;FMTTYPE=text/html:<span style="color:rgb(35\, 31\, 32)\; font-family:brandon-grotesque\; font-size:22.4px">Close out the month with an evening of live music on the patio from </span><strong>Dillon Leggett</strong><span style="color:rgb(35\, 31\, 32)\; font-family:brandon-grotesque\; font-size:22.4px">! With a set full of well-loved covers and an easygoing vibe\, Dillon brings the perfect soundtrack for a laid-back </span><strong>Saturday night</strong><span style="color:rgb(35\, 31\, 32)\; font-family:brandon-grotesque\; font-size:22.4px">. Come out\, relax\, and enjoy great food\, cold drinks\, and live music under the summer sky.</span>
LOCATION:Eastside Social 113 S Washington St. Neosho\, Mo
UID:e.2144.17553
SEQUENCE:3
DTSTAMP:20260424T043417Z
URL:https://www.neoshocc.com/events/details/dillon-leggett-live-music-at-eastside-social-08-30-2025-17553
END:VEVENT

END:VCALENDAR
