BEGIN:VCALENDAR
VERSION:2.0
PRODID:-//ChamberMaster//Event Calendar 2.0//EN
METHOD:PUBLISH
X-PUBLISHED-TTL:P3D
REFRESH-INTERVAL:P3D
CALSCALE:GREGORIAN
BEGIN:VEVENT
DTSTART:20241102T230000Z
DTEND:20241103T020000Z
X-MICROSOFT-CDO-ALLDAYEVENT:FALSE
SUMMARY:Dillon Leggett Live Music At Eastside Social
DESCRIPTION:Dillon Leggett is coming back to jam at Eastside Social! ?? Join us on November 2nd from 6-9 PM for an evening of live music\, good vibes\, and great company. Mark your calendars and don't miss out! ?? #LiveMusic #EastsideSocial #DillonLeggett #JamSession #NeoshoEvents
X-ALT-DESC;FMTTYPE=text/html:<p>Dillon Leggett is coming back to jam at Eastside Social! ?? Join us on November 2nd from 6-9 PM for an evening of live music\, good vibes\, and great company. Mark your calendars and don&rsquo\;t miss out! ?? #LiveMusic #EastsideSocial #DillonLeggett #JamSession #NeoshoEvents</p>\n
LOCATION:Eastside Social Located at 113 S Washington St Neosho\, Mo
UID:e.2144.13747
SEQUENCE:3
DTSTAMP:20260424T173925Z
URL:https://www.neoshocc.com/events/details/dillon-leggett-live-music-at-eastside-social-13747
END:VEVENT

END:VCALENDAR
