BEGIN:VCALENDAR
VERSION:2.0
PRODID:-//ChamberMaster//Event Calendar 2.0//EN
METHOD:PUBLISH
X-PUBLISHED-TTL:P3D
REFRESH-INTERVAL:P3D
CALSCALE:GREGORIAN
BEGIN:VEVENT
DTSTART:20251004T153000Z
DTEND:20251004T220000Z
X-MICROSOFT-CDO-ALLDAYEVENT:FALSE
SUMMARY:Dollar Book Sidewalk Sale
DESCRIPTION:GREAT DEALS!!! LOTS of discounted and DOLLAR Books Sale!\n\nWe are located at115 S Neosho Blvd Suite C.\n\nAcross the street from Arvest Bank and Tyler's Carpet in the Corner Place shopping center.
X-ALT-DESC;FMTTYPE=text/html:<div background-color:="" class="xdj266r x14z9mp xat24cr x1lziwak x1vvkbs" color:="" font-size:="" segoe="" style="overflow-wrap: break-word\; margin-inline: 0px\; margin-bottom: 0px\; margin-top: 0px\; font-family: " ui="">GREAT DEALS!!! LOTS of discounted and DOLLAR Books Sale!</div>\n\n<div background-color:="" class="x14z9mp xat24cr x1lziwak x1vvkbs xtlvy1s" color:="" font-size:="" segoe="" style="overflow-wrap: break-word\; margin-top: 0.5em\; margin-inline: 0px\; margin-bottom: 0px\; font-family: " ui="">We are located at115 S Neosho Blvd Suite C.<br class="html-br" />\nAcross the street from Arvest Bank and Tyler&#39\;s Carpet in the Corner Place shopping center.</div>\n
LOCATION:115 S /Neosho Blvd Suite C NEosho\, Mo.e
UID:e.2144.18521
SEQUENCE:3
DTSTAMP:20260424T014941Z
URL:https://www.neoshocc.com/events/details/dollar-book-sidewalk-sale-18521
END:VEVENT

END:VCALENDAR
