BEGIN:VCALENDAR
VERSION:2.0
PRODID:-//ChamberMaster//Event Calendar 2.0//EN
METHOD:PUBLISH
X-PUBLISHED-TTL:P3D
REFRESH-INTERVAL:P3D
CALSCALE:GREGORIAN
BEGIN:VEVENT
DTSTART:20250309T000000Z
DTEND:20250309T030000Z
X-MICROSOFT-CDO-ALLDAYEVENT:FALSE
SUMMARY:Dominic Roy Live Music at Eastside Social
DESCRIPTION:Check out Dom B Roy March 8th from 6pm to 9pm live at Eastside Social
X-ALT-DESC;FMTTYPE=text/html:Check out Dom B Roy March 8th from 6pm to 9pm live at Eastside Social
LOCATION:Eastside Social 113 S Washington St. Neosho Mo
UID:e.2144.14950
SEQUENCE:3
DTSTAMP:20260424T133445Z
URL:https://www.neoshocc.com/events/details/dominic-roy-live-music-at-eastside-social-03-08-2025-14950
END:VEVENT

END:VCALENDAR
