BEGIN:VCALENDAR
VERSION:2.0
PRODID:-//ChamberMaster//Event Calendar 2.0//EN
METHOD:PUBLISH
X-PUBLISHED-TTL:P3D
REFRESH-INTERVAL:P3D
CALSCALE:GREGORIAN
BEGIN:VEVENT
DTSTART:20241229T000000Z
DTEND:20241229T030000Z
X-MICROSOFT-CDO-ALLDAYEVENT:FALSE
SUMMARY:Wilkie Jay Live Music at Eastside Social
DESCRIPTION:Live Music Alert! ??\n\nJoin us on December 28th from 6 PM to 9 PM for an unforgettable evening with Wilkie Jay live at Eastside Social!  Mark your calendars\, grab your friends\, and head downtown for a night of great tunes\, food\, and fun. See you there!
X-ALT-DESC;FMTTYPE=text/html:<span style="font-size:14px"><strong>Live Music Alert! ??</strong><br />\n<span style="color:rgb(35\, 31\, 32)\; font-family:brandon-grotesque">Join us on </span><strong>December 28th</strong><span style="color:rgb(35\, 31\, 32)\; font-family:brandon-grotesque"> from </span><strong>6 PM to 9 PM</strong><span style="color:rgb(35\, 31\, 32)\; font-family:brandon-grotesque"> for an unforgettable evening with </span><strong>Wilkie Jay</strong><span style="color:rgb(35\, 31\, 32)\; font-family:brandon-grotesque">&nbsp\;live at Eastside Social!&nbsp\; Mark your calendars\, grab your friends\, and head downtown for a night of great tunes\, food\, and fun. See you there!</span></span>
LOCATION:Eastside Social Located at 113 S Washington St. Neosho\, Mo
UID:e.2144.13912
SEQUENCE:3
DTSTAMP:20260424T162015Z
URL:https://www.neoshocc.com/events/details/dominic-roy-live-music-at-eastside-social-12-28-2024-13912
END:VEVENT

END:VCALENDAR
