BEGIN:VCALENDAR
VERSION:2.0
PRODID:-//ChamberMaster//Event Calendar 2.0//EN
METHOD:PUBLISH
X-PUBLISHED-TTL:P3D
REFRESH-INTERVAL:P3D
CALSCALE:GREGORIAN
BEGIN:VEVENT
DTSTART:20240809T230000Z
DTEND:20240810T020000Z
X-MICROSOFT-CDO-ALLDAYEVENT:FALSE
SUMMARY:Dominic Roy Live Music at Eastside Social
DESCRIPTION:Live Music with Dominic Roy at Eastside Social!\n\nCome enjoy a fantastic evening with Dominic Roy performing live on the patio. Join us on August 9th\, from 6pm to 9pm\, for great food and an even greater time! Don't miss out!
X-ALT-DESC;FMTTYPE=text/html:<div>\n<div>\n<div>\n<div>\n<p><strong>Live Music with Dominic Roy at Eastside Social!</strong></p>\n\n<p>Come enjoy a fantastic evening with Dominic Roy performing live on the patio. Join us on August 9th\, from 6pm to 9pm\, for great food and an even greater time! Don&#39\;t miss out!</p>\n</div>\n</div>\n</div>\n</div>\n
LOCATION:Eastside Social 113 S Washington St. Neosho Mo
UID:e.2144.12225
SEQUENCE:3
DTSTAMP:20260424T232511Z
URL:https://www.neoshocc.com/events/details/dominic-roy-live-music-at-eastside-social-12225
END:VEVENT

END:VCALENDAR
