BEGIN:VCALENDAR
VERSION:2.0
PRODID:-//ChamberMaster//Event Calendar 2.0//EN
METHOD:PUBLISH
X-PUBLISHED-TTL:P3D
REFRESH-INTERVAL:P3D
CALSCALE:GREGORIAN
BEGIN:VEVENT
DTSTART:20241007T140000Z
DTEND:20241025T230000Z
X-MICROSOFT-CDO-ALLDAYEVENT:FALSE
SUMMARY:Doug Hall Exhibit at the Crowder College Longwell Museum
DESCRIPTION:The Longwell Museum will host a Doug Hall art exhibit with a reception on October 10\, 5-7pm. Free and open to the public\, the exhibit is open Monday   Friday 9am-6pm (Closed on holidays).\n\n\n\nThe Longwell Museum is located in the Elsie Plaster Community Center at Crowder College. (601 Laclede Ave.\, Neosho\, MO 64850)
X-ALT-DESC;FMTTYPE=text/html:The Longwell Museum will host a Doug Hall art exhibit with a reception on October 10\, 5-7pm. Free and open to the public\, the exhibit is open Monday &ndash\; Friday 9am-6pm (Closed on holidays).<br />\n<br />\nThe Longwell Museum is located in the Elsie Plaster Community Center at Crowder College. (601 Laclede Ave.\, Neosho\, MO 64850)
LOCATION:The Longwell Museum\, Elsie Plaster Community Center Crowder College. (601 Laclede Ave.\, Neosho\, MO 64850)
UID:e.2144.13721
SEQUENCE:3
DTSTAMP:20260424T203628Z
URL:https://www.neoshocc.com/events/details/doug-hall-exhibit-at-the-crowder-college-longwell-museum-13721
END:VEVENT

END:VCALENDAR
