BEGIN:VCALENDAR
VERSION:2.0
PRODID:-//ChamberMaster//Event Calendar 2.0//EN
METHOD:PUBLISH
X-PUBLISHED-TTL:P3D
REFRESH-INTERVAL:P3D
CALSCALE:GREGORIAN
BEGIN:VEVENT
DTSTART;VALUE=DATE:20250510
DTEND;VALUE=DATE:20250511
TRANSP:TRANSPARENT
X-MICROSOFT-CDO-ALLDAYEVENT:TRUE
SUMMARY:Downtown Neosho Flower Walk
DESCRIPTION:?? Join Us for the Downtown Neosho Flower Walk! ??\n\nCelebrate Mother's Day with a stroll around the square\, collecting fresh flowers from your favorite downtown businesses! Each participating merchant will have flowers for you to gather and create a beautiful bouquet to take home.\n\n?? Date: Saturday\, May 10th\n\n?? Location: Downtown Neosho\n\nSupport local businesses\, enjoy a fun community event\, and make something special for Mom (or yourself!).
X-ALT-DESC;FMTTYPE=text/html:<p>?? <strong>Join Us for the Downtown Neosho Flower Walk!</strong> ??</p>\n\n<p>Celebrate Mother&#39\;s Day with a stroll around the square\, collecting fresh flowers from your favorite downtown businesses! Each participating merchant will have flowers for you to gather and create a beautiful bouquet to take home.</p>\n\n<p>?? <strong>Date:</strong> Saturday\, May 10th<br />\n?? <strong>Location:</strong> Downtown Neosho</p>\n\n<p>Support local businesses\, enjoy a fun community event\, and make something special for Mom (or yourself!).</p>\n
LOCATION:Historic Downtown Neosho Square
UID:e.2144.16376
SEQUENCE:3
DTSTAMP:20260424T104431Z
URL:https://www.neoshocc.com/events/details/downtown-neosho-flower-walk-16376
END:VEVENT

END:VCALENDAR
